BEGIN:VCALENDAR
VERSION:2.0
PRODID:-//Alcoholics Anonymous in Rhode Island - ECPv6.15.20//NONSGML v1.0//EN
CALSCALE:GREGORIAN
METHOD:PUBLISH
X-WR-CALNAME:Alcoholics Anonymous in Rhode Island
X-ORIGINAL-URL:https://aainri.com
X-WR-CALDESC:Events for Alcoholics Anonymous in Rhode Island
REFRESH-INTERVAL;VALUE=DURATION:PT1H
X-Robots-Tag:noindex
X-PUBLISHED-TTL:PT1H
BEGIN:VTIMEZONE
TZID:America/New_York
BEGIN:DAYLIGHT
TZOFFSETFROM:-0500
TZOFFSETTO:-0400
TZNAME:EDT
DTSTART:20250309T070000
END:DAYLIGHT
BEGIN:STANDARD
TZOFFSETFROM:-0400
TZOFFSETTO:-0500
TZNAME:EST
DTSTART:20251102T060000
END:STANDARD
BEGIN:DAYLIGHT
TZOFFSETFROM:-0500
TZOFFSETTO:-0400
TZNAME:EDT
DTSTART:20260308T070000
END:DAYLIGHT
BEGIN:STANDARD
TZOFFSETFROM:-0400
TZOFFSETTO:-0500
TZNAME:EST
DTSTART:20261101T060000
END:STANDARD
BEGIN:DAYLIGHT
TZOFFSETFROM:-0500
TZOFFSETTO:-0400
TZNAME:EDT
DTSTART:20270314T070000
END:DAYLIGHT
BEGIN:STANDARD
TZOFFSETFROM:-0400
TZOFFSETTO:-0500
TZNAME:EST
DTSTART:20271107T060000
END:STANDARD
BEGIN:DAYLIGHT
TZOFFSETFROM:-0500
TZOFFSETTO:-0400
TZNAME:EDT
DTSTART:20280312T070000
END:DAYLIGHT
BEGIN:STANDARD
TZOFFSETFROM:-0400
TZOFFSETTO:-0500
TZNAME:EST
DTSTART:20281105T060000
END:STANDARD
END:VTIMEZONE
BEGIN:VEVENT
DTSTART;TZID=America/New_York:20260422T180000
DTEND;TZID=America/New_York:20260422T190000
DTSTAMP:20260422T071841
CREATED:20260206T144959Z
LAST-MODIFIED:20260206T145000Z
UID:10015622-1776880800-1776884400@aainri.com
SUMMARY:Archives Committee Meeting
DESCRIPTION:Virtual Meeting \nZoom ID 895 8552 2002 Password: Area61
URL:https://aainri.com/event/archives-committee-meeting-2/2026-04-22/
LOCATION:Zoom ID 895 8552 2002 Password Area61
CATEGORIES:Archives Committee
END:VEVENT
BEGIN:VEVENT
DTSTART;TZID=America/New_York:20260520T180000
DTEND;TZID=America/New_York:20260520T190000
DTSTAMP:20260422T071841
CREATED:20260206T143536Z
LAST-MODIFIED:20260206T172300Z
UID:10004290-1779300000-1779303600@aainri.com
SUMMARY:Corrections Committee Meeting
DESCRIPTION:Zoom Meeting ID 895 8552 2002 Password: Area61 \n 
URL:https://aainri.com/event/corrections-committee-meeting-2-2/2026-05-20/
LOCATION:Zoom ID 895 8552 2002 Password Area61
CATEGORIES:Corrections
END:VEVENT
BEGIN:VEVENT
DTSTART;TZID=America/New_York:20260527T180000
DTEND;TZID=America/New_York:20260527T190000
DTSTAMP:20260422T071841
CREATED:20260206T144959Z
LAST-MODIFIED:20260206T145000Z
UID:10015623-1779904800-1779908400@aainri.com
SUMMARY:Archives Committee Meeting
DESCRIPTION:Virtual Meeting \nZoom ID 895 8552 2002 Password: Area61
URL:https://aainri.com/event/archives-committee-meeting-2/2026-05-27/
LOCATION:Zoom ID 895 8552 2002 Password Area61
CATEGORIES:Archives Committee
END:VEVENT
BEGIN:VEVENT
DTSTART;TZID=America/New_York:20260617T180000
DTEND;TZID=America/New_York:20260617T190000
DTSTAMP:20260422T071841
CREATED:20260206T143536Z
LAST-MODIFIED:20260206T172300Z
UID:10004291-1781719200-1781722800@aainri.com
SUMMARY:Corrections Committee Meeting
DESCRIPTION:Zoom Meeting ID 895 8552 2002 Password: Area61 \n 
URL:https://aainri.com/event/corrections-committee-meeting-2-2/2026-06-17/
LOCATION:Zoom ID 895 8552 2002 Password Area61
CATEGORIES:Corrections
END:VEVENT
BEGIN:VEVENT
DTSTART;TZID=America/New_York:20260624T180000
DTEND;TZID=America/New_York:20260624T190000
DTSTAMP:20260422T071841
CREATED:20260206T144959Z
LAST-MODIFIED:20260206T145000Z
UID:10015624-1782324000-1782327600@aainri.com
SUMMARY:Archives Committee Meeting
DESCRIPTION:Virtual Meeting \nZoom ID 895 8552 2002 Password: Area61
URL:https://aainri.com/event/archives-committee-meeting-2/2026-06-24/
LOCATION:Zoom ID 895 8552 2002 Password Area61
CATEGORIES:Archives Committee
END:VEVENT
BEGIN:VEVENT
DTSTART;TZID=America/New_York:20260715T180000
DTEND;TZID=America/New_York:20260715T190000
DTSTAMP:20260422T071841
CREATED:20260206T143536Z
LAST-MODIFIED:20260206T172300Z
UID:10004292-1784138400-1784142000@aainri.com
SUMMARY:Corrections Committee Meeting
DESCRIPTION:Zoom Meeting ID 895 8552 2002 Password: Area61 \n 
URL:https://aainri.com/event/corrections-committee-meeting-2-2/2026-07-15/
LOCATION:Zoom ID 895 8552 2002 Password Area61
CATEGORIES:Corrections
END:VEVENT
BEGIN:VEVENT
DTSTART;TZID=America/New_York:20260722T180000
DTEND;TZID=America/New_York:20260722T190000
DTSTAMP:20260422T071841
CREATED:20260206T144959Z
LAST-MODIFIED:20260206T145000Z
UID:10015625-1784743200-1784746800@aainri.com
SUMMARY:Archives Committee Meeting
DESCRIPTION:Virtual Meeting \nZoom ID 895 8552 2002 Password: Area61
URL:https://aainri.com/event/archives-committee-meeting-2/2026-07-22/
LOCATION:Zoom ID 895 8552 2002 Password Area61
CATEGORIES:Archives Committee
END:VEVENT
BEGIN:VEVENT
DTSTART;TZID=America/New_York:20260819T180000
DTEND;TZID=America/New_York:20260819T190000
DTSTAMP:20260422T071841
CREATED:20260206T143536Z
LAST-MODIFIED:20260206T172300Z
UID:10004293-1787162400-1787166000@aainri.com
SUMMARY:Corrections Committee Meeting
DESCRIPTION:Zoom Meeting ID 895 8552 2002 Password: Area61 \n 
URL:https://aainri.com/event/corrections-committee-meeting-2-2/2026-08-19/
LOCATION:Zoom ID 895 8552 2002 Password Area61
CATEGORIES:Corrections
END:VEVENT
BEGIN:VEVENT
DTSTART;TZID=America/New_York:20260826T180000
DTEND;TZID=America/New_York:20260826T190000
DTSTAMP:20260422T071841
CREATED:20260206T144959Z
LAST-MODIFIED:20260206T145000Z
UID:10015626-1787767200-1787770800@aainri.com
SUMMARY:Archives Committee Meeting
DESCRIPTION:Virtual Meeting \nZoom ID 895 8552 2002 Password: Area61
URL:https://aainri.com/event/archives-committee-meeting-2/2026-08-26/
LOCATION:Zoom ID 895 8552 2002 Password Area61
CATEGORIES:Archives Committee
END:VEVENT
BEGIN:VEVENT
DTSTART;TZID=America/New_York:20260916T180000
DTEND;TZID=America/New_York:20260916T190000
DTSTAMP:20260422T071841
CREATED:20260206T143536Z
LAST-MODIFIED:20260206T172300Z
UID:10004294-1789581600-1789585200@aainri.com
SUMMARY:Corrections Committee Meeting
DESCRIPTION:Zoom Meeting ID 895 8552 2002 Password: Area61 \n 
URL:https://aainri.com/event/corrections-committee-meeting-2-2/2026-09-16/
LOCATION:Zoom ID 895 8552 2002 Password Area61
CATEGORIES:Corrections
END:VEVENT
BEGIN:VEVENT
DTSTART;TZID=America/New_York:20260923T180000
DTEND;TZID=America/New_York:20260923T190000
DTSTAMP:20260422T071841
CREATED:20260206T144959Z
LAST-MODIFIED:20260206T145000Z
UID:10015627-1790186400-1790190000@aainri.com
SUMMARY:Archives Committee Meeting
DESCRIPTION:Virtual Meeting \nZoom ID 895 8552 2002 Password: Area61
URL:https://aainri.com/event/archives-committee-meeting-2/2026-09-23/
LOCATION:Zoom ID 895 8552 2002 Password Area61
CATEGORIES:Archives Committee
END:VEVENT
BEGIN:VEVENT
DTSTART;TZID=America/New_York:20261021T180000
DTEND;TZID=America/New_York:20261021T190000
DTSTAMP:20260422T071841
CREATED:20260206T143536Z
LAST-MODIFIED:20260206T172300Z
UID:10004295-1792605600-1792609200@aainri.com
SUMMARY:Corrections Committee Meeting
DESCRIPTION:Zoom Meeting ID 895 8552 2002 Password: Area61 \n 
URL:https://aainri.com/event/corrections-committee-meeting-2-2/2026-10-21/
LOCATION:Zoom ID 895 8552 2002 Password Area61
CATEGORIES:Corrections
END:VEVENT
BEGIN:VEVENT
DTSTART;TZID=America/New_York:20261028T180000
DTEND;TZID=America/New_York:20261028T190000
DTSTAMP:20260422T071841
CREATED:20260206T144959Z
LAST-MODIFIED:20260206T145000Z
UID:10015628-1793210400-1793214000@aainri.com
SUMMARY:Archives Committee Meeting
DESCRIPTION:Virtual Meeting \nZoom ID 895 8552 2002 Password: Area61
URL:https://aainri.com/event/archives-committee-meeting-2/2026-10-28/
LOCATION:Zoom ID 895 8552 2002 Password Area61
CATEGORIES:Archives Committee
END:VEVENT
BEGIN:VEVENT
DTSTART;TZID=America/New_York:20261118T180000
DTEND;TZID=America/New_York:20261118T190000
DTSTAMP:20260422T071841
CREATED:20260206T143536Z
LAST-MODIFIED:20260206T172300Z
UID:10004296-1795024800-1795028400@aainri.com
SUMMARY:Corrections Committee Meeting
DESCRIPTION:Zoom Meeting ID 895 8552 2002 Password: Area61 \n 
URL:https://aainri.com/event/corrections-committee-meeting-2-2/2026-11-18/
LOCATION:Zoom ID 895 8552 2002 Password Area61
CATEGORIES:Corrections
END:VEVENT
BEGIN:VEVENT
DTSTART;TZID=America/New_York:20261125T180000
DTEND;TZID=America/New_York:20261125T190000
DTSTAMP:20260422T071841
CREATED:20260206T144959Z
LAST-MODIFIED:20260206T145000Z
UID:10015629-1795629600-1795633200@aainri.com
SUMMARY:Archives Committee Meeting
DESCRIPTION:Virtual Meeting \nZoom ID 895 8552 2002 Password: Area61
URL:https://aainri.com/event/archives-committee-meeting-2/2026-11-25/
LOCATION:Zoom ID 895 8552 2002 Password Area61
CATEGORIES:Archives Committee
END:VEVENT
BEGIN:VEVENT
DTSTART;TZID=America/New_York:20261216T180000
DTEND;TZID=America/New_York:20261216T190000
DTSTAMP:20260422T071841
CREATED:20260206T143536Z
LAST-MODIFIED:20260206T172300Z
UID:10004297-1797444000-1797447600@aainri.com
SUMMARY:Corrections Committee Meeting
DESCRIPTION:Zoom Meeting ID 895 8552 2002 Password: Area61 \n 
URL:https://aainri.com/event/corrections-committee-meeting-2-2/2026-12-16/
LOCATION:Zoom ID 895 8552 2002 Password Area61
CATEGORIES:Corrections
END:VEVENT
BEGIN:VEVENT
DTSTART;TZID=America/New_York:20261223T180000
DTEND;TZID=America/New_York:20261223T190000
DTSTAMP:20260422T071841
CREATED:20260206T144959Z
LAST-MODIFIED:20260206T145000Z
UID:10015630-1798048800-1798052400@aainri.com
SUMMARY:Archives Committee Meeting
DESCRIPTION:Virtual Meeting \nZoom ID 895 8552 2002 Password: Area61
URL:https://aainri.com/event/archives-committee-meeting-2/2026-12-23/
LOCATION:Zoom ID 895 8552 2002 Password Area61
CATEGORIES:Archives Committee
END:VEVENT
BEGIN:VEVENT
DTSTART;TZID=America/New_York:20270120T180000
DTEND;TZID=America/New_York:20270120T190000
DTSTAMP:20260422T071841
CREATED:20260206T143536Z
LAST-MODIFIED:20260206T172300Z
UID:10004298-1800468000-1800471600@aainri.com
SUMMARY:Corrections Committee Meeting
DESCRIPTION:Zoom Meeting ID 895 8552 2002 Password: Area61 \n 
URL:https://aainri.com/event/corrections-committee-meeting-2-2/2027-01-20/
LOCATION:Zoom ID 895 8552 2002 Password Area61
CATEGORIES:Corrections
END:VEVENT
BEGIN:VEVENT
DTSTART;TZID=America/New_York:20270127T180000
DTEND;TZID=America/New_York:20270127T190000
DTSTAMP:20260422T071841
CREATED:20260206T144959Z
LAST-MODIFIED:20260206T145000Z
UID:10015631-1801072800-1801076400@aainri.com
SUMMARY:Archives Committee Meeting
DESCRIPTION:Virtual Meeting \nZoom ID 895 8552 2002 Password: Area61
URL:https://aainri.com/event/archives-committee-meeting-2/2027-01-27/
LOCATION:Zoom ID 895 8552 2002 Password Area61
CATEGORIES:Archives Committee
END:VEVENT
BEGIN:VEVENT
DTSTART;TZID=America/New_York:20270217T180000
DTEND;TZID=America/New_York:20270217T190000
DTSTAMP:20260422T071841
CREATED:20260206T143536Z
LAST-MODIFIED:20260206T172300Z
UID:10004299-1802887200-1802890800@aainri.com
SUMMARY:Corrections Committee Meeting
DESCRIPTION:Zoom Meeting ID 895 8552 2002 Password: Area61 \n 
URL:https://aainri.com/event/corrections-committee-meeting-2-2/2027-02-17/
LOCATION:Zoom ID 895 8552 2002 Password Area61
CATEGORIES:Corrections
END:VEVENT
BEGIN:VEVENT
DTSTART;TZID=America/New_York:20270224T180000
DTEND;TZID=America/New_York:20270224T190000
DTSTAMP:20260422T071841
CREATED:20260206T144959Z
LAST-MODIFIED:20260206T145000Z
UID:10015632-1803492000-1803495600@aainri.com
SUMMARY:Archives Committee Meeting
DESCRIPTION:Virtual Meeting \nZoom ID 895 8552 2002 Password: Area61
URL:https://aainri.com/event/archives-committee-meeting-2/2027-02-24/
LOCATION:Zoom ID 895 8552 2002 Password Area61
CATEGORIES:Archives Committee
END:VEVENT
BEGIN:VEVENT
DTSTART;TZID=America/New_York:20270317T180000
DTEND;TZID=America/New_York:20270317T190000
DTSTAMP:20260422T071841
CREATED:20260206T143536Z
LAST-MODIFIED:20260206T172300Z
UID:10004300-1805306400-1805310000@aainri.com
SUMMARY:Corrections Committee Meeting
DESCRIPTION:Zoom Meeting ID 895 8552 2002 Password: Area61 \n 
URL:https://aainri.com/event/corrections-committee-meeting-2-2/2027-03-17/
LOCATION:Zoom ID 895 8552 2002 Password Area61
CATEGORIES:Corrections
END:VEVENT
BEGIN:VEVENT
DTSTART;TZID=America/New_York:20270324T180000
DTEND;TZID=America/New_York:20270324T190000
DTSTAMP:20260422T071841
CREATED:20260206T144959Z
LAST-MODIFIED:20260206T145000Z
UID:10015633-1805911200-1805914800@aainri.com
SUMMARY:Archives Committee Meeting
DESCRIPTION:Virtual Meeting \nZoom ID 895 8552 2002 Password: Area61
URL:https://aainri.com/event/archives-committee-meeting-2/2027-03-24/
LOCATION:Zoom ID 895 8552 2002 Password Area61
CATEGORIES:Archives Committee
END:VEVENT
BEGIN:VEVENT
DTSTART;TZID=America/New_York:20270421T180000
DTEND;TZID=America/New_York:20270421T190000
DTSTAMP:20260422T071841
CREATED:20260206T143536Z
LAST-MODIFIED:20260206T172300Z
UID:10004301-1808330400-1808334000@aainri.com
SUMMARY:Corrections Committee Meeting
DESCRIPTION:Zoom Meeting ID 895 8552 2002 Password: Area61 \n 
URL:https://aainri.com/event/corrections-committee-meeting-2-2/2027-04-21/
LOCATION:Zoom ID 895 8552 2002 Password Area61
CATEGORIES:Corrections
END:VEVENT
BEGIN:VEVENT
DTSTART;TZID=America/New_York:20270428T180000
DTEND;TZID=America/New_York:20270428T190000
DTSTAMP:20260422T071841
CREATED:20260206T144959Z
LAST-MODIFIED:20260206T145000Z
UID:10015634-1808935200-1808938800@aainri.com
SUMMARY:Archives Committee Meeting
DESCRIPTION:Virtual Meeting \nZoom ID 895 8552 2002 Password: Area61
URL:https://aainri.com/event/archives-committee-meeting-2/2027-04-28/
LOCATION:Zoom ID 895 8552 2002 Password Area61
CATEGORIES:Archives Committee
END:VEVENT
BEGIN:VEVENT
DTSTART;TZID=America/New_York:20270519T180000
DTEND;TZID=America/New_York:20270519T190000
DTSTAMP:20260422T071841
CREATED:20260206T143536Z
LAST-MODIFIED:20260206T172300Z
UID:10004302-1810749600-1810753200@aainri.com
SUMMARY:Corrections Committee Meeting
DESCRIPTION:Zoom Meeting ID 895 8552 2002 Password: Area61 \n 
URL:https://aainri.com/event/corrections-committee-meeting-2-2/2027-05-19/
LOCATION:Zoom ID 895 8552 2002 Password Area61
CATEGORIES:Corrections
END:VEVENT
BEGIN:VEVENT
DTSTART;TZID=America/New_York:20270526T180000
DTEND;TZID=America/New_York:20270526T190000
DTSTAMP:20260422T071841
CREATED:20260206T144959Z
LAST-MODIFIED:20260206T145000Z
UID:10015635-1811354400-1811358000@aainri.com
SUMMARY:Archives Committee Meeting
DESCRIPTION:Virtual Meeting \nZoom ID 895 8552 2002 Password: Area61
URL:https://aainri.com/event/archives-committee-meeting-2/2027-05-26/
LOCATION:Zoom ID 895 8552 2002 Password Area61
CATEGORIES:Archives Committee
END:VEVENT
BEGIN:VEVENT
DTSTART;TZID=America/New_York:20270616T180000
DTEND;TZID=America/New_York:20270616T190000
DTSTAMP:20260422T071841
CREATED:20260206T143536Z
LAST-MODIFIED:20260206T172300Z
UID:10004303-1813168800-1813172400@aainri.com
SUMMARY:Corrections Committee Meeting
DESCRIPTION:Zoom Meeting ID 895 8552 2002 Password: Area61 \n 
URL:https://aainri.com/event/corrections-committee-meeting-2-2/2027-06-16/
LOCATION:Zoom ID 895 8552 2002 Password Area61
CATEGORIES:Corrections
END:VEVENT
BEGIN:VEVENT
DTSTART;TZID=America/New_York:20270623T180000
DTEND;TZID=America/New_York:20270623T190000
DTSTAMP:20260422T071841
CREATED:20260206T144959Z
LAST-MODIFIED:20260206T145000Z
UID:10015636-1813773600-1813777200@aainri.com
SUMMARY:Archives Committee Meeting
DESCRIPTION:Virtual Meeting \nZoom ID 895 8552 2002 Password: Area61
URL:https://aainri.com/event/archives-committee-meeting-2/2027-06-23/
LOCATION:Zoom ID 895 8552 2002 Password Area61
CATEGORIES:Archives Committee
END:VEVENT
BEGIN:VEVENT
DTSTART;TZID=America/New_York:20270721T180000
DTEND;TZID=America/New_York:20270721T190000
DTSTAMP:20260422T071841
CREATED:20260206T143536Z
LAST-MODIFIED:20260206T172300Z
UID:10004304-1816192800-1816196400@aainri.com
SUMMARY:Corrections Committee Meeting
DESCRIPTION:Zoom Meeting ID 895 8552 2002 Password: Area61 \n 
URL:https://aainri.com/event/corrections-committee-meeting-2-2/2027-07-21/
LOCATION:Zoom ID 895 8552 2002 Password Area61
CATEGORIES:Corrections
END:VEVENT
END:VCALENDAR