BEGIN:VCALENDAR
VERSION:2.0
PRODID:-//Alcoholics Anonymous in Rhode Island - ECPv6.15.20//NONSGML v1.0//EN
CALSCALE:GREGORIAN
METHOD:PUBLISH
X-WR-CALNAME:Alcoholics Anonymous in Rhode Island
X-ORIGINAL-URL:https://aainri.com
X-WR-CALDESC:Events for Alcoholics Anonymous in Rhode Island
REFRESH-INTERVAL;VALUE=DURATION:PT1H
X-Robots-Tag:noindex
X-PUBLISHED-TTL:PT1H
BEGIN:VTIMEZONE
TZID:America/New_York
BEGIN:DAYLIGHT
TZOFFSETFROM:-0500
TZOFFSETTO:-0400
TZNAME:EDT
DTSTART:20250309T070000
END:DAYLIGHT
BEGIN:STANDARD
TZOFFSETFROM:-0400
TZOFFSETTO:-0500
TZNAME:EST
DTSTART:20251102T060000
END:STANDARD
BEGIN:DAYLIGHT
TZOFFSETFROM:-0500
TZOFFSETTO:-0400
TZNAME:EDT
DTSTART:20260308T070000
END:DAYLIGHT
BEGIN:STANDARD
TZOFFSETFROM:-0400
TZOFFSETTO:-0500
TZNAME:EST
DTSTART:20261101T060000
END:STANDARD
BEGIN:DAYLIGHT
TZOFFSETFROM:-0500
TZOFFSETTO:-0400
TZNAME:EDT
DTSTART:20270314T070000
END:DAYLIGHT
BEGIN:STANDARD
TZOFFSETFROM:-0400
TZOFFSETTO:-0500
TZNAME:EST
DTSTART:20271107T060000
END:STANDARD
END:VTIMEZONE
BEGIN:VEVENT
DTSTART;TZID=America/New_York:20260415T180000
DTEND;TZID=America/New_York:20260415T190000
DTSTAMP:20260422T084715
CREATED:20260206T143536Z
LAST-MODIFIED:20260206T172300Z
UID:10004289-1776276000-1776279600@aainri.com
SUMMARY:Corrections Committee Meeting
DESCRIPTION:Zoom Meeting ID 895 8552 2002 Password: Area61 \n 
URL:https://aainri.com/event/corrections-committee-meeting-2-2/2026-04-15/
LOCATION:Zoom ID 895 8552 2002 Password Area61
CATEGORIES:Corrections
END:VEVENT
BEGIN:VEVENT
DTSTART;TZID=America/New_York:20260325T180000
DTEND;TZID=America/New_York:20260325T190000
DTSTAMP:20260422T084715
CREATED:20260206T144959Z
LAST-MODIFIED:20260206T145000Z
UID:10015621-1774461600-1774465200@aainri.com
SUMMARY:Archives Committee Meeting
DESCRIPTION:Virtual Meeting \nZoom ID 895 8552 2002 Password: Area61
URL:https://aainri.com/event/archives-committee-meeting-2/2026-03-25/
LOCATION:Zoom ID 895 8552 2002 Password Area61
CATEGORIES:Archives Committee
END:VEVENT
BEGIN:VEVENT
DTSTART;TZID=America/New_York:20260318T180000
DTEND;TZID=America/New_York:20260318T190000
DTSTAMP:20260422T084715
CREATED:20260206T143536Z
LAST-MODIFIED:20260206T172300Z
UID:10004288-1773856800-1773860400@aainri.com
SUMMARY:Corrections Committee Meeting
DESCRIPTION:Zoom Meeting ID 895 8552 2002 Password: Area61 \n 
URL:https://aainri.com/event/corrections-committee-meeting-2-2/2026-03-18/
LOCATION:Zoom ID 895 8552 2002 Password Area61
CATEGORIES:Corrections
END:VEVENT
BEGIN:VEVENT
DTSTART;TZID=America/New_York:20260303T190000
DTEND;TZID=America/New_York:20260303T210000
DTSTAMP:20260422T084715
CREATED:20260219T095604Z
LAST-MODIFIED:20260226T222029Z
UID:10015905-1772564400-1772571600@aainri.com
SUMMARY:Pre-Conference Roundtable
DESCRIPTION:Zoom ID 895 8552 2002\nPasscode Area61
URL:https://aainri.com/event/pre-conference-roundtable-2/
LOCATION:Zoom ID 895 8552 2002 Password Area61
CATEGORIES:General Announcements,General Service Conference
ATTACH;FMTTYPE=image/jpeg:https://aainri.com/wp-content/uploads/2026/02/Conference-Roundtable-Flyer-2026-scaled.jpg
END:VEVENT
BEGIN:VEVENT
DTSTART;TZID=America/New_York:20260301T150000
DTEND;TZID=America/New_York:20260301T170000
DTSTAMP:20260422T084715
CREATED:20260219T094900Z
LAST-MODIFIED:20260226T222319Z
UID:10015904-1772377200-1772384400@aainri.com
SUMMARY:Pre-Conference Roundtable
DESCRIPTION:Zoom ID 895 8552 2002\nPasscode Area61
URL:https://aainri.com/event/pre-conference-roundtable/
LOCATION:Zoom ID 895 8552 2002 Password Area61
CATEGORIES:General Announcements,General Service Conference
ATTACH;FMTTYPE=image/jpeg:https://aainri.com/wp-content/uploads/2026/02/Conference-Roundtable-Flyer-2026-scaled.jpg
END:VEVENT
BEGIN:VEVENT
DTSTART;TZID=America/New_York:20260225T180000
DTEND;TZID=America/New_York:20260225T190000
DTSTAMP:20260422T084715
CREATED:20260206T144959Z
LAST-MODIFIED:20260206T145000Z
UID:10015620-1772042400-1772046000@aainri.com
SUMMARY:Archives Committee Meeting
DESCRIPTION:Virtual Meeting \nZoom ID 895 8552 2002 Password: Area61
URL:https://aainri.com/event/archives-committee-meeting-2/2026-02-25/
LOCATION:Zoom ID 895 8552 2002 Password Area61
CATEGORIES:Archives Committee
END:VEVENT
BEGIN:VEVENT
DTSTART;TZID=America/New_York:20260218T180000
DTEND;TZID=America/New_York:20260218T190000
DTSTAMP:20260422T084715
CREATED:20260206T143536Z
LAST-MODIFIED:20260206T172300Z
UID:10004287-1771437600-1771441200@aainri.com
SUMMARY:Corrections Committee Meeting
DESCRIPTION:Zoom Meeting ID 895 8552 2002 Password: Area61 \n 
URL:https://aainri.com/event/corrections-committee-meeting-2-2/2026-02-18/
LOCATION:Zoom ID 895 8552 2002 Password Area61
CATEGORIES:Corrections
END:VEVENT
END:VCALENDAR