BEGIN:VCALENDAR
VERSION:2.0
PRODID:-//Alcoholics Anonymous in Rhode Island - ECPv6.15.20//NONSGML v1.0//EN
CALSCALE:GREGORIAN
METHOD:PUBLISH
X-WR-CALNAME:Alcoholics Anonymous in Rhode Island
X-ORIGINAL-URL:https://aainri.com
X-WR-CALDESC:Events for Alcoholics Anonymous in Rhode Island
REFRESH-INTERVAL;VALUE=DURATION:PT1H
X-Robots-Tag:noindex
X-PUBLISHED-TTL:PT1H
BEGIN:VTIMEZONE
TZID:America/New_York
BEGIN:DAYLIGHT
TZOFFSETFROM:-0500
TZOFFSETTO:-0400
TZNAME:EDT
DTSTART:20240310T070000
END:DAYLIGHT
BEGIN:STANDARD
TZOFFSETFROM:-0400
TZOFFSETTO:-0500
TZNAME:EST
DTSTART:20241103T060000
END:STANDARD
BEGIN:DAYLIGHT
TZOFFSETFROM:-0500
TZOFFSETTO:-0400
TZNAME:EDT
DTSTART:20250309T070000
END:DAYLIGHT
BEGIN:STANDARD
TZOFFSETFROM:-0400
TZOFFSETTO:-0500
TZNAME:EST
DTSTART:20251102T060000
END:STANDARD
BEGIN:DAYLIGHT
TZOFFSETFROM:-0500
TZOFFSETTO:-0400
TZNAME:EDT
DTSTART:20260308T070000
END:DAYLIGHT
BEGIN:STANDARD
TZOFFSETFROM:-0400
TZOFFSETTO:-0500
TZNAME:EST
DTSTART:20261101T060000
END:STANDARD
BEGIN:DAYLIGHT
TZOFFSETFROM:-0500
TZOFFSETTO:-0400
TZNAME:EDT
DTSTART:20270314T070000
END:DAYLIGHT
BEGIN:STANDARD
TZOFFSETFROM:-0400
TZOFFSETTO:-0500
TZNAME:EST
DTSTART:20271107T060000
END:STANDARD
END:VTIMEZONE
BEGIN:VEVENT
DTSTART;TZID=America/New_York:20260217T193000
DTEND;TZID=America/New_York:20260217T203000
DTSTAMP:20260422T094251
CREATED:20260204T140845Z
LAST-MODIFIED:20260204T140845Z
UID:10015804-1771356600-1771360200@aainri.com
SUMMARY:40th Anniversary - Coming Back Group
DESCRIPTION:
URL:https://aainri.com/event/40th-anniversary-coming-back-group/
LOCATION:Saint James Parish Hall\, 57 Division St.\, Manville\, RI\, 02838\, United States
CATEGORIES:District 1,General Announcements
GEO:41.9703939;-71.4759914
X-APPLE-STRUCTURED-LOCATION;VALUE=URI;X-ADDRESS=Saint James Parish Hall 57 Division St. Manville RI 02838 United States;X-APPLE-RADIUS=500;X-TITLE=57 Division St.:geo:-71.4759914,41.9703939
END:VEVENT
BEGIN:VEVENT
DTSTART;TZID=America/New_York:20251206T103000
DTEND;TZID=America/New_York:20251206T113000
DTSTAMP:20260422T094251
CREATED:20251119T163045Z
LAST-MODIFIED:20251119T163045Z
UID:10015197-1765017000-1765020600@aainri.com
SUMMARY:53rd Anniversary - Peace Of Mind Group
DESCRIPTION:
URL:https://aainri.com/event/53rd-anniversary-peace-of-mind-group/
LOCATION:Saint James Parish Hall\, 57 Division St.\, Manville\, RI\, 02838\, United States
CATEGORIES:District 1,General Announcements
GEO:41.9703939;-71.4759914
X-APPLE-STRUCTURED-LOCATION;VALUE=URI;X-ADDRESS=Saint James Parish Hall 57 Division St. Manville RI 02838 United States;X-APPLE-RADIUS=500;X-TITLE=57 Division St.:geo:-71.4759914,41.9703939
END:VEVENT
END:VCALENDAR