BEGIN:VCALENDAR
VERSION:2.0
PRODID:-//Alcoholics Anonymous in Rhode Island - ECPv6.15.20//NONSGML v1.0//EN
CALSCALE:GREGORIAN
METHOD:PUBLISH
X-WR-CALNAME:Alcoholics Anonymous in Rhode Island
X-ORIGINAL-URL:https://aainri.com
X-WR-CALDESC:Events for Alcoholics Anonymous in Rhode Island
REFRESH-INTERVAL;VALUE=DURATION:PT1H
X-Robots-Tag:noindex
X-PUBLISHED-TTL:PT1H
BEGIN:VTIMEZONE
TZID:America/New_York
BEGIN:DAYLIGHT
TZOFFSETFROM:-0500
TZOFFSETTO:-0400
TZNAME:EDT
DTSTART:20240310T070000
END:DAYLIGHT
BEGIN:STANDARD
TZOFFSETFROM:-0400
TZOFFSETTO:-0500
TZNAME:EST
DTSTART:20241103T060000
END:STANDARD
BEGIN:DAYLIGHT
TZOFFSETFROM:-0500
TZOFFSETTO:-0400
TZNAME:EDT
DTSTART:20250309T070000
END:DAYLIGHT
BEGIN:STANDARD
TZOFFSETFROM:-0400
TZOFFSETTO:-0500
TZNAME:EST
DTSTART:20251102T060000
END:STANDARD
BEGIN:DAYLIGHT
TZOFFSETFROM:-0500
TZOFFSETTO:-0400
TZNAME:EDT
DTSTART:20260308T070000
END:DAYLIGHT
BEGIN:STANDARD
TZOFFSETFROM:-0400
TZOFFSETTO:-0500
TZNAME:EST
DTSTART:20261101T060000
END:STANDARD
BEGIN:DAYLIGHT
TZOFFSETFROM:-0500
TZOFFSETTO:-0400
TZNAME:EDT
DTSTART:20270314T070000
END:DAYLIGHT
BEGIN:STANDARD
TZOFFSETFROM:-0400
TZOFFSETTO:-0500
TZNAME:EST
DTSTART:20271107T060000
END:STANDARD
END:VTIMEZONE
BEGIN:VEVENT
DTSTART;TZID=America/New_York:20251231T190000
DTEND;TZID=America/New_York:20260101T000100
DTSTAMP:20260422T101600
CREATED:20251127T230918Z
LAST-MODIFIED:20251127T231451Z
UID:10015243-1767207600-1767225660@aainri.com
SUMMARY:SRII & RISCYPAA Present:  A Midnight Clear
DESCRIPTION:7:00 PM – Speaker meeting\n8:00 PM – Dinner\n9:30 PM – Dancing w/ DJ\n$20 – Event ticket\n$5 – Just dancing ticket\nPlease bring your favorite dessert
URL:https://aainri.com/event/srii-riscypaa-present-a-midnight-clear-2/
LOCATION:Saint Luke’s Episcopal Church\, 99 Peirce St.\, East Greenwich\, RI\, 02818\, United States
CATEGORIES:General Announcements,Intergroup,Young Peoples Conference
ATTACH;FMTTYPE=image/png:https://aainri.com/wp-content/uploads/2025/11/srii2026nye.png
GEO:41.6612865;-71.451618
X-APPLE-STRUCTURED-LOCATION;VALUE=URI;X-ADDRESS=Saint Luke’s Episcopal Church 99 Peirce St. East Greenwich RI 02818 United States;X-APPLE-RADIUS=500;X-TITLE=99 Peirce St.:geo:-71.451618,41.6612865
END:VEVENT
BEGIN:VEVENT
DTSTART;TZID=America/New_York:20251225T090000
DTEND;TZID=America/New_York:20251225T180000
DTSTAMP:20260422T101600
CREATED:20251213T104043Z
LAST-MODIFIED:20251213T104043Z
UID:10015399-1766653200-1766685600@aainri.com
SUMMARY:Christmas Day Alkathon Hosted By SRIAA
DESCRIPTION:to volunteer your group to host a meeting call 401-739-8777
URL:https://aainri.com/event/christmas-day-alkathon-hosted-by-sriaa/
LOCATION:Craik Building\, 2845 Post Rd.\, Warwick\, RI\, 02886\, United States
CATEGORIES:Christmas Alcathon,General Announcements,Intergroup
ATTACH;FMTTYPE=image/jpeg:https://aainri.com/wp-content/uploads/2025/12/sriaa-xmas-alkathon-2025-1.jpg
END:VEVENT
BEGIN:VEVENT
DTSTART;TZID=America/New_York:20251127T090000
DTEND;TZID=America/New_York:20251127T180000
DTSTAMP:20260422T101600
CREATED:20251111T153851Z
LAST-MODIFIED:20251111T162834Z
UID:10014580-1764234000-1764266400@aainri.com
SUMMARY:Southern Rhode Island Intergroup Thanksgiving Alkathon
DESCRIPTION:
URL:https://aainri.com/event/southern-rhode-island-intergroup-thanksgiving-alkathon/
LOCATION:RI
CATEGORIES:General Announcements,Intergroup,Souther Rhode Island Intergroup Delegates,Thanksgiving Alcathon
ATTACH;FMTTYPE=image/jpeg:https://aainri.com/wp-content/uploads/2025/11/thanksgiving-flyer-1-scaled.jpg
END:VEVENT
END:VCALENDAR