BEGIN:VCALENDAR
VERSION:2.0
PRODID:-//Alcoholics Anonymous in Rhode Island - ECPv6.15.20//NONSGML v1.0//EN
CALSCALE:GREGORIAN
METHOD:PUBLISH
X-WR-CALNAME:Alcoholics Anonymous in Rhode Island
X-ORIGINAL-URL:https://aainri.com
X-WR-CALDESC:Events for Alcoholics Anonymous in Rhode Island
REFRESH-INTERVAL;VALUE=DURATION:PT1H
X-Robots-Tag:noindex
X-PUBLISHED-TTL:PT1H
BEGIN:VTIMEZONE
TZID:America/New_York
BEGIN:DAYLIGHT
TZOFFSETFROM:-0500
TZOFFSETTO:-0400
TZNAME:EDT
DTSTART:20250309T070000
END:DAYLIGHT
BEGIN:STANDARD
TZOFFSETFROM:-0400
TZOFFSETTO:-0500
TZNAME:EST
DTSTART:20251102T060000
END:STANDARD
BEGIN:DAYLIGHT
TZOFFSETFROM:-0500
TZOFFSETTO:-0400
TZNAME:EDT
DTSTART:20260308T070000
END:DAYLIGHT
BEGIN:STANDARD
TZOFFSETFROM:-0400
TZOFFSETTO:-0500
TZNAME:EST
DTSTART:20261101T060000
END:STANDARD
BEGIN:DAYLIGHT
TZOFFSETFROM:-0500
TZOFFSETTO:-0400
TZNAME:EDT
DTSTART:20270314T070000
END:DAYLIGHT
BEGIN:STANDARD
TZOFFSETFROM:-0400
TZOFFSETTO:-0500
TZNAME:EST
DTSTART:20271107T060000
END:STANDARD
END:VTIMEZONE
BEGIN:VEVENT
DTSTART;TZID=America/New_York:20260526T180000
DTEND;TZID=America/New_York:20260526T190000
DTSTAMP:20260424T052607
CREATED:20170205T042700Z
LAST-MODIFIED:20250126T112548Z
UID:10010524-1779818400-1779822000@aainri.com
SUMMARY:District 5 Meeting
DESCRIPTION:Hybrid Meeting \nIn person \nYANA Club \n770 Aquidneck Ave. \nMiddletown\, RI 02842 \nOnline \nZoom Meeting ID 838 8774 5717 \nPassword:  District5
URL:https://aainri.com/event/district-5-meeting/2026-05-26/
LOCATION:YANA Club\, 770 Aquidneck Ave.\, Middletown\, RI\, 02842\, United States
CATEGORIES:District 5
GEO:41.5050231;-71.2885809
X-APPLE-STRUCTURED-LOCATION;VALUE=URI;X-ADDRESS=YANA Club 770 Aquidneck Ave. Middletown RI 02842 United States;X-APPLE-RADIUS=500;X-TITLE=770 Aquidneck Ave.:geo:-71.2885809,41.5050231
END:VEVENT
END:VCALENDAR