BEGIN:VCALENDAR
VERSION:2.0
PRODID:-//Alcoholics Anonymous in Rhode Island - ECPv6.15.20//NONSGML v1.0//EN
CALSCALE:GREGORIAN
METHOD:PUBLISH
X-WR-CALNAME:Alcoholics Anonymous in Rhode Island
X-ORIGINAL-URL:https://aainri.com
X-WR-CALDESC:Events for Alcoholics Anonymous in Rhode Island
REFRESH-INTERVAL;VALUE=DURATION:PT1H
X-Robots-Tag:noindex
X-PUBLISHED-TTL:PT1H
BEGIN:VTIMEZONE
TZID:America/New_York
BEGIN:DAYLIGHT
TZOFFSETFROM:-0500
TZOFFSETTO:-0400
TZNAME:EDT
DTSTART:20270314T070000
END:DAYLIGHT
BEGIN:STANDARD
TZOFFSETFROM:-0400
TZOFFSETTO:-0500
TZNAME:EST
DTSTART:20271107T060000
END:STANDARD
BEGIN:DAYLIGHT
TZOFFSETFROM:-0500
TZOFFSETTO:-0400
TZNAME:EDT
DTSTART:20280312T070000
END:DAYLIGHT
BEGIN:STANDARD
TZOFFSETFROM:-0400
TZOFFSETTO:-0500
TZNAME:EST
DTSTART:20281105T060000
END:STANDARD
BEGIN:DAYLIGHT
TZOFFSETFROM:-0500
TZOFFSETTO:-0400
TZNAME:EDT
DTSTART:20290311T070000
END:DAYLIGHT
BEGIN:STANDARD
TZOFFSETFROM:-0400
TZOFFSETTO:-0500
TZNAME:EST
DTSTART:20291104T060000
END:STANDARD
BEGIN:DAYLIGHT
TZOFFSETFROM:-0500
TZOFFSETTO:-0400
TZNAME:EDT
DTSTART:20300310T070000
END:DAYLIGHT
BEGIN:STANDARD
TZOFFSETFROM:-0400
TZOFFSETTO:-0500
TZNAME:EST
DTSTART:20301103T060000
END:STANDARD
BEGIN:DAYLIGHT
TZOFFSETFROM:-0500
TZOFFSETTO:-0400
TZNAME:EDT
DTSTART:20310309T070000
END:DAYLIGHT
BEGIN:STANDARD
TZOFFSETFROM:-0400
TZOFFSETTO:-0500
TZNAME:EST
DTSTART:20311102T060000
END:STANDARD
END:VTIMEZONE
BEGIN:VEVENT
DTSTART;TZID=America/New_York:20280118T190000
DTEND;TZID=America/New_York:20280118T200000
DTSTAMP:20260423T114353
CREATED:20260206T141838Z
LAST-MODIFIED:20260206T172013Z
UID:10004220-1831834800-1831838400@aainri.com
SUMMARY:District 3 Meeting
DESCRIPTION:Hybrid Meeting \nZoom Meeting ID 895 8552 2002 Password Area61 \nIn person  Area Offices \n3649 Post Rd \nWarwick\, RI
URL:https://aainri.com/event/district-3-meeting-2/2028-01-18/
LOCATION:Area Offices\, 3649 Post Rd.\, Warwick\, RI\, 02886\, United States
CATEGORIES:District 3
GEO:41.6903666;-71.4566177
X-APPLE-STRUCTURED-LOCATION;VALUE=URI;X-ADDRESS=Area Offices 3649 Post Rd. Warwick RI 02886 United States;X-APPLE-RADIUS=500;X-TITLE=3649 Post Rd.:geo:-71.4566177,41.6903666
END:VEVENT
BEGIN:VEVENT
DTSTART;TZID=America/New_York:20280215T190000
DTEND;TZID=America/New_York:20280215T200000
DTSTAMP:20260423T114353
CREATED:20260206T141838Z
LAST-MODIFIED:20260206T172013Z
UID:10004221-1834254000-1834257600@aainri.com
SUMMARY:District 3 Meeting
DESCRIPTION:Hybrid Meeting \nZoom Meeting ID 895 8552 2002 Password Area61 \nIn person  Area Offices \n3649 Post Rd \nWarwick\, RI
URL:https://aainri.com/event/district-3-meeting-2/2028-02-15/
LOCATION:Area Offices\, 3649 Post Rd.\, Warwick\, RI\, 02886\, United States
CATEGORIES:District 3
GEO:41.6903666;-71.4566177
X-APPLE-STRUCTURED-LOCATION;VALUE=URI;X-ADDRESS=Area Offices 3649 Post Rd. Warwick RI 02886 United States;X-APPLE-RADIUS=500;X-TITLE=3649 Post Rd.:geo:-71.4566177,41.6903666
END:VEVENT
BEGIN:VEVENT
DTSTART;TZID=America/New_York:20280321T190000
DTEND;TZID=America/New_York:20280321T200000
DTSTAMP:20260423T114353
CREATED:20260206T141838Z
LAST-MODIFIED:20260206T172013Z
UID:10004222-1837278000-1837281600@aainri.com
SUMMARY:District 3 Meeting
DESCRIPTION:Hybrid Meeting \nZoom Meeting ID 895 8552 2002 Password Area61 \nIn person  Area Offices \n3649 Post Rd \nWarwick\, RI
URL:https://aainri.com/event/district-3-meeting-2/2028-03-21/
LOCATION:Area Offices\, 3649 Post Rd.\, Warwick\, RI\, 02886\, United States
CATEGORIES:District 3
GEO:41.6903666;-71.4566177
X-APPLE-STRUCTURED-LOCATION;VALUE=URI;X-ADDRESS=Area Offices 3649 Post Rd. Warwick RI 02886 United States;X-APPLE-RADIUS=500;X-TITLE=3649 Post Rd.:geo:-71.4566177,41.6903666
END:VEVENT
BEGIN:VEVENT
DTSTART;TZID=America/New_York:20280418T190000
DTEND;TZID=America/New_York:20280418T200000
DTSTAMP:20260423T114353
CREATED:20260206T141838Z
LAST-MODIFIED:20260206T172013Z
UID:10004223-1839697200-1839700800@aainri.com
SUMMARY:District 3 Meeting
DESCRIPTION:Hybrid Meeting \nZoom Meeting ID 895 8552 2002 Password Area61 \nIn person  Area Offices \n3649 Post Rd \nWarwick\, RI
URL:https://aainri.com/event/district-3-meeting-2/2028-04-18/
LOCATION:Area Offices\, 3649 Post Rd.\, Warwick\, RI\, 02886\, United States
CATEGORIES:District 3
GEO:41.6903666;-71.4566177
X-APPLE-STRUCTURED-LOCATION;VALUE=URI;X-ADDRESS=Area Offices 3649 Post Rd. Warwick RI 02886 United States;X-APPLE-RADIUS=500;X-TITLE=3649 Post Rd.:geo:-71.4566177,41.6903666
END:VEVENT
BEGIN:VEVENT
DTSTART;TZID=America/New_York:20280516T190000
DTEND;TZID=America/New_York:20280516T200000
DTSTAMP:20260423T114353
CREATED:20260206T141838Z
LAST-MODIFIED:20260206T172013Z
UID:10004224-1842116400-1842120000@aainri.com
SUMMARY:District 3 Meeting
DESCRIPTION:Hybrid Meeting \nZoom Meeting ID 895 8552 2002 Password Area61 \nIn person  Area Offices \n3649 Post Rd \nWarwick\, RI
URL:https://aainri.com/event/district-3-meeting-2/2028-05-16/
LOCATION:Area Offices\, 3649 Post Rd.\, Warwick\, RI\, 02886\, United States
CATEGORIES:District 3
GEO:41.6903666;-71.4566177
X-APPLE-STRUCTURED-LOCATION;VALUE=URI;X-ADDRESS=Area Offices 3649 Post Rd. Warwick RI 02886 United States;X-APPLE-RADIUS=500;X-TITLE=3649 Post Rd.:geo:-71.4566177,41.6903666
END:VEVENT
BEGIN:VEVENT
DTSTART;TZID=America/New_York:20280620T190000
DTEND;TZID=America/New_York:20280620T200000
DTSTAMP:20260423T114353
CREATED:20260206T141838Z
LAST-MODIFIED:20260206T172013Z
UID:10004225-1845140400-1845144000@aainri.com
SUMMARY:District 3 Meeting
DESCRIPTION:Hybrid Meeting \nZoom Meeting ID 895 8552 2002 Password Area61 \nIn person  Area Offices \n3649 Post Rd \nWarwick\, RI
URL:https://aainri.com/event/district-3-meeting-2/2028-06-20/
LOCATION:Area Offices\, 3649 Post Rd.\, Warwick\, RI\, 02886\, United States
CATEGORIES:District 3
GEO:41.6903666;-71.4566177
X-APPLE-STRUCTURED-LOCATION;VALUE=URI;X-ADDRESS=Area Offices 3649 Post Rd. Warwick RI 02886 United States;X-APPLE-RADIUS=500;X-TITLE=3649 Post Rd.:geo:-71.4566177,41.6903666
END:VEVENT
BEGIN:VEVENT
DTSTART;TZID=America/New_York:20280718T190000
DTEND;TZID=America/New_York:20280718T200000
DTSTAMP:20260423T114353
CREATED:20260206T141838Z
LAST-MODIFIED:20260206T172013Z
UID:10014283-1847559600-1847563200@aainri.com
SUMMARY:District 3 Meeting
DESCRIPTION:Hybrid Meeting \nZoom Meeting ID 895 8552 2002 Password Area61 \nIn person  Area Offices \n3649 Post Rd \nWarwick\, RI
URL:https://aainri.com/event/district-3-meeting-2/2028-07-18/
LOCATION:Area Offices\, 3649 Post Rd.\, Warwick\, RI\, 02886\, United States
CATEGORIES:District 3
GEO:41.6903666;-71.4566177
X-APPLE-STRUCTURED-LOCATION;VALUE=URI;X-ADDRESS=Area Offices 3649 Post Rd. Warwick RI 02886 United States;X-APPLE-RADIUS=500;X-TITLE=3649 Post Rd.:geo:-71.4566177,41.6903666
END:VEVENT
BEGIN:VEVENT
DTSTART;TZID=America/New_York:20280815T190000
DTEND;TZID=America/New_York:20280815T200000
DTSTAMP:20260423T114353
CREATED:20260206T141838Z
LAST-MODIFIED:20260206T172013Z
UID:10014284-1849978800-1849982400@aainri.com
SUMMARY:District 3 Meeting
DESCRIPTION:Hybrid Meeting \nZoom Meeting ID 895 8552 2002 Password Area61 \nIn person  Area Offices \n3649 Post Rd \nWarwick\, RI
URL:https://aainri.com/event/district-3-meeting-2/2028-08-15/
LOCATION:Area Offices\, 3649 Post Rd.\, Warwick\, RI\, 02886\, United States
CATEGORIES:District 3
GEO:41.6903666;-71.4566177
X-APPLE-STRUCTURED-LOCATION;VALUE=URI;X-ADDRESS=Area Offices 3649 Post Rd. Warwick RI 02886 United States;X-APPLE-RADIUS=500;X-TITLE=3649 Post Rd.:geo:-71.4566177,41.6903666
END:VEVENT
BEGIN:VEVENT
DTSTART;TZID=America/New_York:20280919T190000
DTEND;TZID=America/New_York:20280919T200000
DTSTAMP:20260423T114353
CREATED:20260206T141838Z
LAST-MODIFIED:20260206T172013Z
UID:10014285-1853002800-1853006400@aainri.com
SUMMARY:District 3 Meeting
DESCRIPTION:Hybrid Meeting \nZoom Meeting ID 895 8552 2002 Password Area61 \nIn person  Area Offices \n3649 Post Rd \nWarwick\, RI
URL:https://aainri.com/event/district-3-meeting-2/2028-09-19/
LOCATION:Area Offices\, 3649 Post Rd.\, Warwick\, RI\, 02886\, United States
CATEGORIES:District 3
GEO:41.6903666;-71.4566177
X-APPLE-STRUCTURED-LOCATION;VALUE=URI;X-ADDRESS=Area Offices 3649 Post Rd. Warwick RI 02886 United States;X-APPLE-RADIUS=500;X-TITLE=3649 Post Rd.:geo:-71.4566177,41.6903666
END:VEVENT
BEGIN:VEVENT
DTSTART;TZID=America/New_York:20281017T190000
DTEND;TZID=America/New_York:20281017T200000
DTSTAMP:20260423T114353
CREATED:20260206T141838Z
LAST-MODIFIED:20260206T172013Z
UID:10014286-1855422000-1855425600@aainri.com
SUMMARY:District 3 Meeting
DESCRIPTION:Hybrid Meeting \nZoom Meeting ID 895 8552 2002 Password Area61 \nIn person  Area Offices \n3649 Post Rd \nWarwick\, RI
URL:https://aainri.com/event/district-3-meeting-2/2028-10-17/
LOCATION:Area Offices\, 3649 Post Rd.\, Warwick\, RI\, 02886\, United States
CATEGORIES:District 3
GEO:41.6903666;-71.4566177
X-APPLE-STRUCTURED-LOCATION;VALUE=URI;X-ADDRESS=Area Offices 3649 Post Rd. Warwick RI 02886 United States;X-APPLE-RADIUS=500;X-TITLE=3649 Post Rd.:geo:-71.4566177,41.6903666
END:VEVENT
BEGIN:VEVENT
DTSTART;TZID=America/New_York:20281121T190000
DTEND;TZID=America/New_York:20281121T200000
DTSTAMP:20260423T114353
CREATED:20260206T141838Z
LAST-MODIFIED:20260206T172013Z
UID:10014287-1858446000-1858449600@aainri.com
SUMMARY:District 3 Meeting
DESCRIPTION:Hybrid Meeting \nZoom Meeting ID 895 8552 2002 Password Area61 \nIn person  Area Offices \n3649 Post Rd \nWarwick\, RI
URL:https://aainri.com/event/district-3-meeting-2/2028-11-21/
LOCATION:Area Offices\, 3649 Post Rd.\, Warwick\, RI\, 02886\, United States
CATEGORIES:District 3
GEO:41.6903666;-71.4566177
X-APPLE-STRUCTURED-LOCATION;VALUE=URI;X-ADDRESS=Area Offices 3649 Post Rd. Warwick RI 02886 United States;X-APPLE-RADIUS=500;X-TITLE=3649 Post Rd.:geo:-71.4566177,41.6903666
END:VEVENT
BEGIN:VEVENT
DTSTART;TZID=America/New_York:20281219T190000
DTEND;TZID=America/New_York:20281219T200000
DTSTAMP:20260423T114353
CREATED:20260206T141838Z
LAST-MODIFIED:20260206T172013Z
UID:10014288-1860865200-1860868800@aainri.com
SUMMARY:District 3 Meeting
DESCRIPTION:Hybrid Meeting \nZoom Meeting ID 895 8552 2002 Password Area61 \nIn person  Area Offices \n3649 Post Rd \nWarwick\, RI
URL:https://aainri.com/event/district-3-meeting-2/2028-12-19/
LOCATION:Area Offices\, 3649 Post Rd.\, Warwick\, RI\, 02886\, United States
CATEGORIES:District 3
GEO:41.6903666;-71.4566177
X-APPLE-STRUCTURED-LOCATION;VALUE=URI;X-ADDRESS=Area Offices 3649 Post Rd. Warwick RI 02886 United States;X-APPLE-RADIUS=500;X-TITLE=3649 Post Rd.:geo:-71.4566177,41.6903666
END:VEVENT
BEGIN:VEVENT
DTSTART;TZID=America/New_York:20290116T190000
DTEND;TZID=America/New_York:20290116T200000
DTSTAMP:20260423T114353
CREATED:20260206T141838Z
LAST-MODIFIED:20260206T172013Z
UID:10014289-1863284400-1863288000@aainri.com
SUMMARY:District 3 Meeting
DESCRIPTION:Hybrid Meeting \nZoom Meeting ID 895 8552 2002 Password Area61 \nIn person  Area Offices \n3649 Post Rd \nWarwick\, RI
URL:https://aainri.com/event/district-3-meeting-2/2029-01-16/
LOCATION:Area Offices\, 3649 Post Rd.\, Warwick\, RI\, 02886\, United States
CATEGORIES:District 3
GEO:41.6903666;-71.4566177
X-APPLE-STRUCTURED-LOCATION;VALUE=URI;X-ADDRESS=Area Offices 3649 Post Rd. Warwick RI 02886 United States;X-APPLE-RADIUS=500;X-TITLE=3649 Post Rd.:geo:-71.4566177,41.6903666
END:VEVENT
BEGIN:VEVENT
DTSTART;TZID=America/New_York:20290220T190000
DTEND;TZID=America/New_York:20290220T200000
DTSTAMP:20260423T114353
CREATED:20260206T141838Z
LAST-MODIFIED:20260206T172013Z
UID:10014290-1866308400-1866312000@aainri.com
SUMMARY:District 3 Meeting
DESCRIPTION:Hybrid Meeting \nZoom Meeting ID 895 8552 2002 Password Area61 \nIn person  Area Offices \n3649 Post Rd \nWarwick\, RI
URL:https://aainri.com/event/district-3-meeting-2/2029-02-20/
LOCATION:Area Offices\, 3649 Post Rd.\, Warwick\, RI\, 02886\, United States
CATEGORIES:District 3
GEO:41.6903666;-71.4566177
X-APPLE-STRUCTURED-LOCATION;VALUE=URI;X-ADDRESS=Area Offices 3649 Post Rd. Warwick RI 02886 United States;X-APPLE-RADIUS=500;X-TITLE=3649 Post Rd.:geo:-71.4566177,41.6903666
END:VEVENT
BEGIN:VEVENT
DTSTART;TZID=America/New_York:20290320T190000
DTEND;TZID=America/New_York:20290320T200000
DTSTAMP:20260423T114353
CREATED:20260206T141838Z
LAST-MODIFIED:20260206T172013Z
UID:10014291-1868727600-1868731200@aainri.com
SUMMARY:District 3 Meeting
DESCRIPTION:Hybrid Meeting \nZoom Meeting ID 895 8552 2002 Password Area61 \nIn person  Area Offices \n3649 Post Rd \nWarwick\, RI
URL:https://aainri.com/event/district-3-meeting-2/2029-03-20/
LOCATION:Area Offices\, 3649 Post Rd.\, Warwick\, RI\, 02886\, United States
CATEGORIES:District 3
GEO:41.6903666;-71.4566177
X-APPLE-STRUCTURED-LOCATION;VALUE=URI;X-ADDRESS=Area Offices 3649 Post Rd. Warwick RI 02886 United States;X-APPLE-RADIUS=500;X-TITLE=3649 Post Rd.:geo:-71.4566177,41.6903666
END:VEVENT
BEGIN:VEVENT
DTSTART;TZID=America/New_York:20290417T190000
DTEND;TZID=America/New_York:20290417T200000
DTSTAMP:20260423T114353
CREATED:20260206T141838Z
LAST-MODIFIED:20260206T172013Z
UID:10014292-1871146800-1871150400@aainri.com
SUMMARY:District 3 Meeting
DESCRIPTION:Hybrid Meeting \nZoom Meeting ID 895 8552 2002 Password Area61 \nIn person  Area Offices \n3649 Post Rd \nWarwick\, RI
URL:https://aainri.com/event/district-3-meeting-2/2029-04-17/
LOCATION:Area Offices\, 3649 Post Rd.\, Warwick\, RI\, 02886\, United States
CATEGORIES:District 3
GEO:41.6903666;-71.4566177
X-APPLE-STRUCTURED-LOCATION;VALUE=URI;X-ADDRESS=Area Offices 3649 Post Rd. Warwick RI 02886 United States;X-APPLE-RADIUS=500;X-TITLE=3649 Post Rd.:geo:-71.4566177,41.6903666
END:VEVENT
BEGIN:VEVENT
DTSTART;TZID=America/New_York:20290515T190000
DTEND;TZID=America/New_York:20290515T200000
DTSTAMP:20260423T114353
CREATED:20260206T141838Z
LAST-MODIFIED:20260206T172013Z
UID:10014293-1873566000-1873569600@aainri.com
SUMMARY:District 3 Meeting
DESCRIPTION:Hybrid Meeting \nZoom Meeting ID 895 8552 2002 Password Area61 \nIn person  Area Offices \n3649 Post Rd \nWarwick\, RI
URL:https://aainri.com/event/district-3-meeting-2/2029-05-15/
LOCATION:Area Offices\, 3649 Post Rd.\, Warwick\, RI\, 02886\, United States
CATEGORIES:District 3
GEO:41.6903666;-71.4566177
X-APPLE-STRUCTURED-LOCATION;VALUE=URI;X-ADDRESS=Area Offices 3649 Post Rd. Warwick RI 02886 United States;X-APPLE-RADIUS=500;X-TITLE=3649 Post Rd.:geo:-71.4566177,41.6903666
END:VEVENT
BEGIN:VEVENT
DTSTART;TZID=America/New_York:20290619T190000
DTEND;TZID=America/New_York:20290619T200000
DTSTAMP:20260423T114353
CREATED:20260206T141838Z
LAST-MODIFIED:20260206T172013Z
UID:10014294-1876590000-1876593600@aainri.com
SUMMARY:District 3 Meeting
DESCRIPTION:Hybrid Meeting \nZoom Meeting ID 895 8552 2002 Password Area61 \nIn person  Area Offices \n3649 Post Rd \nWarwick\, RI
URL:https://aainri.com/event/district-3-meeting-2/2029-06-19/
LOCATION:Area Offices\, 3649 Post Rd.\, Warwick\, RI\, 02886\, United States
CATEGORIES:District 3
GEO:41.6903666;-71.4566177
X-APPLE-STRUCTURED-LOCATION;VALUE=URI;X-ADDRESS=Area Offices 3649 Post Rd. Warwick RI 02886 United States;X-APPLE-RADIUS=500;X-TITLE=3649 Post Rd.:geo:-71.4566177,41.6903666
END:VEVENT
BEGIN:VEVENT
DTSTART;TZID=America/New_York:20290717T190000
DTEND;TZID=America/New_York:20290717T200000
DTSTAMP:20260423T114353
CREATED:20260206T141838Z
LAST-MODIFIED:20260206T172013Z
UID:10014295-1879009200-1879012800@aainri.com
SUMMARY:District 3 Meeting
DESCRIPTION:Hybrid Meeting \nZoom Meeting ID 895 8552 2002 Password Area61 \nIn person  Area Offices \n3649 Post Rd \nWarwick\, RI
URL:https://aainri.com/event/district-3-meeting-2/2029-07-17/
LOCATION:Area Offices\, 3649 Post Rd.\, Warwick\, RI\, 02886\, United States
CATEGORIES:District 3
GEO:41.6903666;-71.4566177
X-APPLE-STRUCTURED-LOCATION;VALUE=URI;X-ADDRESS=Area Offices 3649 Post Rd. Warwick RI 02886 United States;X-APPLE-RADIUS=500;X-TITLE=3649 Post Rd.:geo:-71.4566177,41.6903666
END:VEVENT
BEGIN:VEVENT
DTSTART;TZID=America/New_York:20290821T190000
DTEND;TZID=America/New_York:20290821T200000
DTSTAMP:20260423T114353
CREATED:20260206T141838Z
LAST-MODIFIED:20260206T172013Z
UID:10014296-1882033200-1882036800@aainri.com
SUMMARY:District 3 Meeting
DESCRIPTION:Hybrid Meeting \nZoom Meeting ID 895 8552 2002 Password Area61 \nIn person  Area Offices \n3649 Post Rd \nWarwick\, RI
URL:https://aainri.com/event/district-3-meeting-2/2029-08-21/
LOCATION:Area Offices\, 3649 Post Rd.\, Warwick\, RI\, 02886\, United States
CATEGORIES:District 3
GEO:41.6903666;-71.4566177
X-APPLE-STRUCTURED-LOCATION;VALUE=URI;X-ADDRESS=Area Offices 3649 Post Rd. Warwick RI 02886 United States;X-APPLE-RADIUS=500;X-TITLE=3649 Post Rd.:geo:-71.4566177,41.6903666
END:VEVENT
BEGIN:VEVENT
DTSTART;TZID=America/New_York:20290918T190000
DTEND;TZID=America/New_York:20290918T200000
DTSTAMP:20260423T114353
CREATED:20260206T141838Z
LAST-MODIFIED:20260206T172013Z
UID:10014297-1884452400-1884456000@aainri.com
SUMMARY:District 3 Meeting
DESCRIPTION:Hybrid Meeting \nZoom Meeting ID 895 8552 2002 Password Area61 \nIn person  Area Offices \n3649 Post Rd \nWarwick\, RI
URL:https://aainri.com/event/district-3-meeting-2/2029-09-18/
LOCATION:Area Offices\, 3649 Post Rd.\, Warwick\, RI\, 02886\, United States
CATEGORIES:District 3
GEO:41.6903666;-71.4566177
X-APPLE-STRUCTURED-LOCATION;VALUE=URI;X-ADDRESS=Area Offices 3649 Post Rd. Warwick RI 02886 United States;X-APPLE-RADIUS=500;X-TITLE=3649 Post Rd.:geo:-71.4566177,41.6903666
END:VEVENT
BEGIN:VEVENT
DTSTART;TZID=America/New_York:20291016T190000
DTEND;TZID=America/New_York:20291016T200000
DTSTAMP:20260423T114353
CREATED:20260206T141838Z
LAST-MODIFIED:20260206T172013Z
UID:10014298-1886871600-1886875200@aainri.com
SUMMARY:District 3 Meeting
DESCRIPTION:Hybrid Meeting \nZoom Meeting ID 895 8552 2002 Password Area61 \nIn person  Area Offices \n3649 Post Rd \nWarwick\, RI
URL:https://aainri.com/event/district-3-meeting-2/2029-10-16/
LOCATION:Area Offices\, 3649 Post Rd.\, Warwick\, RI\, 02886\, United States
CATEGORIES:District 3
GEO:41.6903666;-71.4566177
X-APPLE-STRUCTURED-LOCATION;VALUE=URI;X-ADDRESS=Area Offices 3649 Post Rd. Warwick RI 02886 United States;X-APPLE-RADIUS=500;X-TITLE=3649 Post Rd.:geo:-71.4566177,41.6903666
END:VEVENT
BEGIN:VEVENT
DTSTART;TZID=America/New_York:20291120T190000
DTEND;TZID=America/New_York:20291120T200000
DTSTAMP:20260423T114353
CREATED:20260206T141838Z
LAST-MODIFIED:20260206T172013Z
UID:10014299-1889895600-1889899200@aainri.com
SUMMARY:District 3 Meeting
DESCRIPTION:Hybrid Meeting \nZoom Meeting ID 895 8552 2002 Password Area61 \nIn person  Area Offices \n3649 Post Rd \nWarwick\, RI
URL:https://aainri.com/event/district-3-meeting-2/2029-11-20/
LOCATION:Area Offices\, 3649 Post Rd.\, Warwick\, RI\, 02886\, United States
CATEGORIES:District 3
GEO:41.6903666;-71.4566177
X-APPLE-STRUCTURED-LOCATION;VALUE=URI;X-ADDRESS=Area Offices 3649 Post Rd. Warwick RI 02886 United States;X-APPLE-RADIUS=500;X-TITLE=3649 Post Rd.:geo:-71.4566177,41.6903666
END:VEVENT
BEGIN:VEVENT
DTSTART;TZID=America/New_York:20291218T190000
DTEND;TZID=America/New_York:20291218T200000
DTSTAMP:20260423T114353
CREATED:20260206T141838Z
LAST-MODIFIED:20260206T172013Z
UID:10014300-1892314800-1892318400@aainri.com
SUMMARY:District 3 Meeting
DESCRIPTION:Hybrid Meeting \nZoom Meeting ID 895 8552 2002 Password Area61 \nIn person  Area Offices \n3649 Post Rd \nWarwick\, RI
URL:https://aainri.com/event/district-3-meeting-2/2029-12-18/
LOCATION:Area Offices\, 3649 Post Rd.\, Warwick\, RI\, 02886\, United States
CATEGORIES:District 3
GEO:41.6903666;-71.4566177
X-APPLE-STRUCTURED-LOCATION;VALUE=URI;X-ADDRESS=Area Offices 3649 Post Rd. Warwick RI 02886 United States;X-APPLE-RADIUS=500;X-TITLE=3649 Post Rd.:geo:-71.4566177,41.6903666
END:VEVENT
BEGIN:VEVENT
DTSTART;TZID=America/New_York:20300115T190000
DTEND;TZID=America/New_York:20300115T200000
DTSTAMP:20260423T114353
CREATED:20260206T141838Z
LAST-MODIFIED:20260206T172013Z
UID:10014301-1894734000-1894737600@aainri.com
SUMMARY:District 3 Meeting
DESCRIPTION:Hybrid Meeting \nZoom Meeting ID 895 8552 2002 Password Area61 \nIn person  Area Offices \n3649 Post Rd \nWarwick\, RI
URL:https://aainri.com/event/district-3-meeting-2/2030-01-15/
LOCATION:Area Offices\, 3649 Post Rd.\, Warwick\, RI\, 02886\, United States
CATEGORIES:District 3
GEO:41.6903666;-71.4566177
X-APPLE-STRUCTURED-LOCATION;VALUE=URI;X-ADDRESS=Area Offices 3649 Post Rd. Warwick RI 02886 United States;X-APPLE-RADIUS=500;X-TITLE=3649 Post Rd.:geo:-71.4566177,41.6903666
END:VEVENT
BEGIN:VEVENT
DTSTART;TZID=America/New_York:20300219T190000
DTEND;TZID=America/New_York:20300219T200000
DTSTAMP:20260423T114353
CREATED:20260206T141838Z
LAST-MODIFIED:20260206T172013Z
UID:10014302-1897758000-1897761600@aainri.com
SUMMARY:District 3 Meeting
DESCRIPTION:Hybrid Meeting \nZoom Meeting ID 895 8552 2002 Password Area61 \nIn person  Area Offices \n3649 Post Rd \nWarwick\, RI
URL:https://aainri.com/event/district-3-meeting-2/2030-02-19/
LOCATION:Area Offices\, 3649 Post Rd.\, Warwick\, RI\, 02886\, United States
CATEGORIES:District 3
GEO:41.6903666;-71.4566177
X-APPLE-STRUCTURED-LOCATION;VALUE=URI;X-ADDRESS=Area Offices 3649 Post Rd. Warwick RI 02886 United States;X-APPLE-RADIUS=500;X-TITLE=3649 Post Rd.:geo:-71.4566177,41.6903666
END:VEVENT
BEGIN:VEVENT
DTSTART;TZID=America/New_York:20300319T190000
DTEND;TZID=America/New_York:20300319T200000
DTSTAMP:20260423T114353
CREATED:20260206T141838Z
LAST-MODIFIED:20260206T172013Z
UID:10014303-1900177200-1900180800@aainri.com
SUMMARY:District 3 Meeting
DESCRIPTION:Hybrid Meeting \nZoom Meeting ID 895 8552 2002 Password Area61 \nIn person  Area Offices \n3649 Post Rd \nWarwick\, RI
URL:https://aainri.com/event/district-3-meeting-2/2030-03-19/
LOCATION:Area Offices\, 3649 Post Rd.\, Warwick\, RI\, 02886\, United States
CATEGORIES:District 3
GEO:41.6903666;-71.4566177
X-APPLE-STRUCTURED-LOCATION;VALUE=URI;X-ADDRESS=Area Offices 3649 Post Rd. Warwick RI 02886 United States;X-APPLE-RADIUS=500;X-TITLE=3649 Post Rd.:geo:-71.4566177,41.6903666
END:VEVENT
BEGIN:VEVENT
DTSTART;TZID=America/New_York:20300416T190000
DTEND;TZID=America/New_York:20300416T200000
DTSTAMP:20260423T114353
CREATED:20260206T141838Z
LAST-MODIFIED:20260206T172013Z
UID:10014304-1902596400-1902600000@aainri.com
SUMMARY:District 3 Meeting
DESCRIPTION:Hybrid Meeting \nZoom Meeting ID 895 8552 2002 Password Area61 \nIn person  Area Offices \n3649 Post Rd \nWarwick\, RI
URL:https://aainri.com/event/district-3-meeting-2/2030-04-16/
LOCATION:Area Offices\, 3649 Post Rd.\, Warwick\, RI\, 02886\, United States
CATEGORIES:District 3
GEO:41.6903666;-71.4566177
X-APPLE-STRUCTURED-LOCATION;VALUE=URI;X-ADDRESS=Area Offices 3649 Post Rd. Warwick RI 02886 United States;X-APPLE-RADIUS=500;X-TITLE=3649 Post Rd.:geo:-71.4566177,41.6903666
END:VEVENT
BEGIN:VEVENT
DTSTART;TZID=America/New_York:20300521T190000
DTEND;TZID=America/New_York:20300521T200000
DTSTAMP:20260423T114353
CREATED:20260206T141838Z
LAST-MODIFIED:20260206T172013Z
UID:10014305-1905620400-1905624000@aainri.com
SUMMARY:District 3 Meeting
DESCRIPTION:Hybrid Meeting \nZoom Meeting ID 895 8552 2002 Password Area61 \nIn person  Area Offices \n3649 Post Rd \nWarwick\, RI
URL:https://aainri.com/event/district-3-meeting-2/2030-05-21/
LOCATION:Area Offices\, 3649 Post Rd.\, Warwick\, RI\, 02886\, United States
CATEGORIES:District 3
GEO:41.6903666;-71.4566177
X-APPLE-STRUCTURED-LOCATION;VALUE=URI;X-ADDRESS=Area Offices 3649 Post Rd. Warwick RI 02886 United States;X-APPLE-RADIUS=500;X-TITLE=3649 Post Rd.:geo:-71.4566177,41.6903666
END:VEVENT
BEGIN:VEVENT
DTSTART;TZID=America/New_York:20300618T190000
DTEND;TZID=America/New_York:20300618T200000
DTSTAMP:20260423T114353
CREATED:20260206T141838Z
LAST-MODIFIED:20260206T172013Z
UID:10014306-1908039600-1908043200@aainri.com
SUMMARY:District 3 Meeting
DESCRIPTION:Hybrid Meeting \nZoom Meeting ID 895 8552 2002 Password Area61 \nIn person  Area Offices \n3649 Post Rd \nWarwick\, RI
URL:https://aainri.com/event/district-3-meeting-2/2030-06-18/
LOCATION:Area Offices\, 3649 Post Rd.\, Warwick\, RI\, 02886\, United States
CATEGORIES:District 3
GEO:41.6903666;-71.4566177
X-APPLE-STRUCTURED-LOCATION;VALUE=URI;X-ADDRESS=Area Offices 3649 Post Rd. Warwick RI 02886 United States;X-APPLE-RADIUS=500;X-TITLE=3649 Post Rd.:geo:-71.4566177,41.6903666
END:VEVENT
END:VCALENDAR