BEGIN:VCALENDAR
VERSION:2.0
PRODID:-//Alcoholics Anonymous in Rhode Island - ECPv6.15.20//NONSGML v1.0//EN
CALSCALE:GREGORIAN
METHOD:PUBLISH
X-ORIGINAL-URL:https://aainri.com
X-WR-CALDESC:Events for Alcoholics Anonymous in Rhode Island
REFRESH-INTERVAL;VALUE=DURATION:PT1H
X-Robots-Tag:noindex
X-PUBLISHED-TTL:PT1H
BEGIN:VTIMEZONE
TZID:America/New_York
BEGIN:DAYLIGHT
TZOFFSETFROM:-0500
TZOFFSETTO:-0400
TZNAME:EDT
DTSTART:20250309T070000
END:DAYLIGHT
BEGIN:STANDARD
TZOFFSETFROM:-0400
TZOFFSETTO:-0500
TZNAME:EST
DTSTART:20251102T060000
END:STANDARD
BEGIN:DAYLIGHT
TZOFFSETFROM:-0500
TZOFFSETTO:-0400
TZNAME:EDT
DTSTART:20260308T070000
END:DAYLIGHT
BEGIN:STANDARD
TZOFFSETFROM:-0400
TZOFFSETTO:-0500
TZNAME:EST
DTSTART:20261101T060000
END:STANDARD
BEGIN:DAYLIGHT
TZOFFSETFROM:-0500
TZOFFSETTO:-0400
TZNAME:EDT
DTSTART:20270314T070000
END:DAYLIGHT
BEGIN:STANDARD
TZOFFSETFROM:-0400
TZOFFSETTO:-0500
TZNAME:EST
DTSTART:20271107T060000
END:STANDARD
BEGIN:DAYLIGHT
TZOFFSETFROM:-0500
TZOFFSETTO:-0400
TZNAME:EDT
DTSTART:20280312T070000
END:DAYLIGHT
BEGIN:STANDARD
TZOFFSETFROM:-0400
TZOFFSETTO:-0500
TZNAME:EST
DTSTART:20281105T060000
END:STANDARD
BEGIN:DAYLIGHT
TZOFFSETFROM:-0500
TZOFFSETTO:-0400
TZNAME:EDT
DTSTART:20290311T070000
END:DAYLIGHT
BEGIN:STANDARD
TZOFFSETFROM:-0400
TZOFFSETTO:-0500
TZNAME:EST
DTSTART:20291104T060000
END:STANDARD
END:VTIMEZONE
BEGIN:VEVENT
DTSTART;TZID=America/New_York:20260421T190000
DTEND;TZID=America/New_York:20260421T200000
DTSTAMP:20260421T053236
CREATED:20260206T141838Z
LAST-MODIFIED:20260206T172013Z
UID:10004199-1776798000-1776801600@aainri.com
SUMMARY:District 3 Meeting
DESCRIPTION:Hybrid Meeting \nZoom Meeting ID 895 8552 2002 Password Area61 \nIn person  Area Offices \n3649 Post Rd \nWarwick\, RI
URL:https://aainri.com/event/district-3-meeting-2/2026-04-21/
LOCATION:Area Offices\, 3649 Post Rd.\, Warwick\, RI\, 02886\, United States
CATEGORIES:District 3
GEO:41.6903666;-71.4566177
X-APPLE-STRUCTURED-LOCATION;VALUE=URI;X-ADDRESS=Area Offices 3649 Post Rd. Warwick RI 02886 United States;X-APPLE-RADIUS=500;X-TITLE=3649 Post Rd.:geo:-71.4566177,41.6903666
END:VEVENT
BEGIN:VEVENT
DTSTART;TZID=America/New_York:20260519T190000
DTEND;TZID=America/New_York:20260519T200000
DTSTAMP:20260421T053236
CREATED:20260206T141838Z
LAST-MODIFIED:20260206T172013Z
UID:10004200-1779217200-1779220800@aainri.com
SUMMARY:District 3 Meeting
DESCRIPTION:Hybrid Meeting \nZoom Meeting ID 895 8552 2002 Password Area61 \nIn person  Area Offices \n3649 Post Rd \nWarwick\, RI
URL:https://aainri.com/event/district-3-meeting-2/2026-05-19/
LOCATION:Area Offices\, 3649 Post Rd.\, Warwick\, RI\, 02886\, United States
CATEGORIES:District 3
GEO:41.6903666;-71.4566177
X-APPLE-STRUCTURED-LOCATION;VALUE=URI;X-ADDRESS=Area Offices 3649 Post Rd. Warwick RI 02886 United States;X-APPLE-RADIUS=500;X-TITLE=3649 Post Rd.:geo:-71.4566177,41.6903666
END:VEVENT
BEGIN:VEVENT
DTSTART;TZID=America/New_York:20260616T190000
DTEND;TZID=America/New_York:20260616T200000
DTSTAMP:20260421T053236
CREATED:20260206T141838Z
LAST-MODIFIED:20260206T172013Z
UID:10004201-1781636400-1781640000@aainri.com
SUMMARY:District 3 Meeting
DESCRIPTION:Hybrid Meeting \nZoom Meeting ID 895 8552 2002 Password Area61 \nIn person  Area Offices \n3649 Post Rd \nWarwick\, RI
URL:https://aainri.com/event/district-3-meeting-2/2026-06-16/
LOCATION:Area Offices\, 3649 Post Rd.\, Warwick\, RI\, 02886\, United States
CATEGORIES:District 3
GEO:41.6903666;-71.4566177
X-APPLE-STRUCTURED-LOCATION;VALUE=URI;X-ADDRESS=Area Offices 3649 Post Rd. Warwick RI 02886 United States;X-APPLE-RADIUS=500;X-TITLE=3649 Post Rd.:geo:-71.4566177,41.6903666
END:VEVENT
BEGIN:VEVENT
DTSTART;TZID=America/New_York:20260721T190000
DTEND;TZID=America/New_York:20260721T200000
DTSTAMP:20260421T053236
CREATED:20260206T141838Z
LAST-MODIFIED:20260206T172013Z
UID:10004202-1784660400-1784664000@aainri.com
SUMMARY:District 3 Meeting
DESCRIPTION:Hybrid Meeting \nZoom Meeting ID 895 8552 2002 Password Area61 \nIn person  Area Offices \n3649 Post Rd \nWarwick\, RI
URL:https://aainri.com/event/district-3-meeting-2/2026-07-21/
LOCATION:Area Offices\, 3649 Post Rd.\, Warwick\, RI\, 02886\, United States
CATEGORIES:District 3
GEO:41.6903666;-71.4566177
X-APPLE-STRUCTURED-LOCATION;VALUE=URI;X-ADDRESS=Area Offices 3649 Post Rd. Warwick RI 02886 United States;X-APPLE-RADIUS=500;X-TITLE=3649 Post Rd.:geo:-71.4566177,41.6903666
END:VEVENT
BEGIN:VEVENT
DTSTART;TZID=America/New_York:20260818T190000
DTEND;TZID=America/New_York:20260818T200000
DTSTAMP:20260421T053236
CREATED:20260206T141838Z
LAST-MODIFIED:20260206T172013Z
UID:10004203-1787079600-1787083200@aainri.com
SUMMARY:District 3 Meeting
DESCRIPTION:Hybrid Meeting \nZoom Meeting ID 895 8552 2002 Password Area61 \nIn person  Area Offices \n3649 Post Rd \nWarwick\, RI
URL:https://aainri.com/event/district-3-meeting-2/2026-08-18/
LOCATION:Area Offices\, 3649 Post Rd.\, Warwick\, RI\, 02886\, United States
CATEGORIES:District 3
GEO:41.6903666;-71.4566177
X-APPLE-STRUCTURED-LOCATION;VALUE=URI;X-ADDRESS=Area Offices 3649 Post Rd. Warwick RI 02886 United States;X-APPLE-RADIUS=500;X-TITLE=3649 Post Rd.:geo:-71.4566177,41.6903666
END:VEVENT
BEGIN:VEVENT
DTSTART;TZID=America/New_York:20260915T190000
DTEND;TZID=America/New_York:20260915T200000
DTSTAMP:20260421T053236
CREATED:20260206T141838Z
LAST-MODIFIED:20260206T172013Z
UID:10004204-1789498800-1789502400@aainri.com
SUMMARY:District 3 Meeting
DESCRIPTION:Hybrid Meeting \nZoom Meeting ID 895 8552 2002 Password Area61 \nIn person  Area Offices \n3649 Post Rd \nWarwick\, RI
URL:https://aainri.com/event/district-3-meeting-2/2026-09-15/
LOCATION:Area Offices\, 3649 Post Rd.\, Warwick\, RI\, 02886\, United States
CATEGORIES:District 3
GEO:41.6903666;-71.4566177
X-APPLE-STRUCTURED-LOCATION;VALUE=URI;X-ADDRESS=Area Offices 3649 Post Rd. Warwick RI 02886 United States;X-APPLE-RADIUS=500;X-TITLE=3649 Post Rd.:geo:-71.4566177,41.6903666
END:VEVENT
BEGIN:VEVENT
DTSTART;TZID=America/New_York:20261020T190000
DTEND;TZID=America/New_York:20261020T200000
DTSTAMP:20260421T053236
CREATED:20260206T141838Z
LAST-MODIFIED:20260206T172013Z
UID:10004205-1792522800-1792526400@aainri.com
SUMMARY:District 3 Meeting
DESCRIPTION:Hybrid Meeting \nZoom Meeting ID 895 8552 2002 Password Area61 \nIn person  Area Offices \n3649 Post Rd \nWarwick\, RI
URL:https://aainri.com/event/district-3-meeting-2/2026-10-20/
LOCATION:Area Offices\, 3649 Post Rd.\, Warwick\, RI\, 02886\, United States
CATEGORIES:District 3
GEO:41.6903666;-71.4566177
X-APPLE-STRUCTURED-LOCATION;VALUE=URI;X-ADDRESS=Area Offices 3649 Post Rd. Warwick RI 02886 United States;X-APPLE-RADIUS=500;X-TITLE=3649 Post Rd.:geo:-71.4566177,41.6903666
END:VEVENT
BEGIN:VEVENT
DTSTART;TZID=America/New_York:20261117T190000
DTEND;TZID=America/New_York:20261117T200000
DTSTAMP:20260421T053236
CREATED:20260206T141838Z
LAST-MODIFIED:20260206T172013Z
UID:10004206-1794942000-1794945600@aainri.com
SUMMARY:District 3 Meeting
DESCRIPTION:Hybrid Meeting \nZoom Meeting ID 895 8552 2002 Password Area61 \nIn person  Area Offices \n3649 Post Rd \nWarwick\, RI
URL:https://aainri.com/event/district-3-meeting-2/2026-11-17/
LOCATION:Area Offices\, 3649 Post Rd.\, Warwick\, RI\, 02886\, United States
CATEGORIES:District 3
GEO:41.6903666;-71.4566177
X-APPLE-STRUCTURED-LOCATION;VALUE=URI;X-ADDRESS=Area Offices 3649 Post Rd. Warwick RI 02886 United States;X-APPLE-RADIUS=500;X-TITLE=3649 Post Rd.:geo:-71.4566177,41.6903666
END:VEVENT
BEGIN:VEVENT
DTSTART;TZID=America/New_York:20261215T190000
DTEND;TZID=America/New_York:20261215T200000
DTSTAMP:20260421T053236
CREATED:20260206T141838Z
LAST-MODIFIED:20260206T172013Z
UID:10004207-1797361200-1797364800@aainri.com
SUMMARY:District 3 Meeting
DESCRIPTION:Hybrid Meeting \nZoom Meeting ID 895 8552 2002 Password Area61 \nIn person  Area Offices \n3649 Post Rd \nWarwick\, RI
URL:https://aainri.com/event/district-3-meeting-2/2026-12-15/
LOCATION:Area Offices\, 3649 Post Rd.\, Warwick\, RI\, 02886\, United States
CATEGORIES:District 3
GEO:41.6903666;-71.4566177
X-APPLE-STRUCTURED-LOCATION;VALUE=URI;X-ADDRESS=Area Offices 3649 Post Rd. Warwick RI 02886 United States;X-APPLE-RADIUS=500;X-TITLE=3649 Post Rd.:geo:-71.4566177,41.6903666
END:VEVENT
BEGIN:VEVENT
DTSTART;TZID=America/New_York:20270119T190000
DTEND;TZID=America/New_York:20270119T200000
DTSTAMP:20260421T053236
CREATED:20260206T141838Z
LAST-MODIFIED:20260206T172013Z
UID:10004208-1800385200-1800388800@aainri.com
SUMMARY:District 3 Meeting
DESCRIPTION:Hybrid Meeting \nZoom Meeting ID 895 8552 2002 Password Area61 \nIn person  Area Offices \n3649 Post Rd \nWarwick\, RI
URL:https://aainri.com/event/district-3-meeting-2/2027-01-19/
LOCATION:Area Offices\, 3649 Post Rd.\, Warwick\, RI\, 02886\, United States
CATEGORIES:District 3
GEO:41.6903666;-71.4566177
X-APPLE-STRUCTURED-LOCATION;VALUE=URI;X-ADDRESS=Area Offices 3649 Post Rd. Warwick RI 02886 United States;X-APPLE-RADIUS=500;X-TITLE=3649 Post Rd.:geo:-71.4566177,41.6903666
END:VEVENT
BEGIN:VEVENT
DTSTART;TZID=America/New_York:20270216T190000
DTEND;TZID=America/New_York:20270216T200000
DTSTAMP:20260421T053236
CREATED:20260206T141838Z
LAST-MODIFIED:20260206T172013Z
UID:10004209-1802804400-1802808000@aainri.com
SUMMARY:District 3 Meeting
DESCRIPTION:Hybrid Meeting \nZoom Meeting ID 895 8552 2002 Password Area61 \nIn person  Area Offices \n3649 Post Rd \nWarwick\, RI
URL:https://aainri.com/event/district-3-meeting-2/2027-02-16/
LOCATION:Area Offices\, 3649 Post Rd.\, Warwick\, RI\, 02886\, United States
CATEGORIES:District 3
GEO:41.6903666;-71.4566177
X-APPLE-STRUCTURED-LOCATION;VALUE=URI;X-ADDRESS=Area Offices 3649 Post Rd. Warwick RI 02886 United States;X-APPLE-RADIUS=500;X-TITLE=3649 Post Rd.:geo:-71.4566177,41.6903666
END:VEVENT
BEGIN:VEVENT
DTSTART;TZID=America/New_York:20270316T190000
DTEND;TZID=America/New_York:20270316T200000
DTSTAMP:20260421T053236
CREATED:20260206T141838Z
LAST-MODIFIED:20260206T172013Z
UID:10004210-1805223600-1805227200@aainri.com
SUMMARY:District 3 Meeting
DESCRIPTION:Hybrid Meeting \nZoom Meeting ID 895 8552 2002 Password Area61 \nIn person  Area Offices \n3649 Post Rd \nWarwick\, RI
URL:https://aainri.com/event/district-3-meeting-2/2027-03-16/
LOCATION:Area Offices\, 3649 Post Rd.\, Warwick\, RI\, 02886\, United States
CATEGORIES:District 3
GEO:41.6903666;-71.4566177
X-APPLE-STRUCTURED-LOCATION;VALUE=URI;X-ADDRESS=Area Offices 3649 Post Rd. Warwick RI 02886 United States;X-APPLE-RADIUS=500;X-TITLE=3649 Post Rd.:geo:-71.4566177,41.6903666
END:VEVENT
BEGIN:VEVENT
DTSTART;TZID=America/New_York:20270420T190000
DTEND;TZID=America/New_York:20270420T200000
DTSTAMP:20260421T053236
CREATED:20260206T141838Z
LAST-MODIFIED:20260206T172013Z
UID:10004211-1808247600-1808251200@aainri.com
SUMMARY:District 3 Meeting
DESCRIPTION:Hybrid Meeting \nZoom Meeting ID 895 8552 2002 Password Area61 \nIn person  Area Offices \n3649 Post Rd \nWarwick\, RI
URL:https://aainri.com/event/district-3-meeting-2/2027-04-20/
LOCATION:Area Offices\, 3649 Post Rd.\, Warwick\, RI\, 02886\, United States
CATEGORIES:District 3
GEO:41.6903666;-71.4566177
X-APPLE-STRUCTURED-LOCATION;VALUE=URI;X-ADDRESS=Area Offices 3649 Post Rd. Warwick RI 02886 United States;X-APPLE-RADIUS=500;X-TITLE=3649 Post Rd.:geo:-71.4566177,41.6903666
END:VEVENT
BEGIN:VEVENT
DTSTART;TZID=America/New_York:20270518T190000
DTEND;TZID=America/New_York:20270518T200000
DTSTAMP:20260421T053236
CREATED:20260206T141838Z
LAST-MODIFIED:20260206T172013Z
UID:10004212-1810666800-1810670400@aainri.com
SUMMARY:District 3 Meeting
DESCRIPTION:Hybrid Meeting \nZoom Meeting ID 895 8552 2002 Password Area61 \nIn person  Area Offices \n3649 Post Rd \nWarwick\, RI
URL:https://aainri.com/event/district-3-meeting-2/2027-05-18/
LOCATION:Area Offices\, 3649 Post Rd.\, Warwick\, RI\, 02886\, United States
CATEGORIES:District 3
GEO:41.6903666;-71.4566177
X-APPLE-STRUCTURED-LOCATION;VALUE=URI;X-ADDRESS=Area Offices 3649 Post Rd. Warwick RI 02886 United States;X-APPLE-RADIUS=500;X-TITLE=3649 Post Rd.:geo:-71.4566177,41.6903666
END:VEVENT
BEGIN:VEVENT
DTSTART;TZID=America/New_York:20270615T190000
DTEND;TZID=America/New_York:20270615T200000
DTSTAMP:20260421T053236
CREATED:20260206T141838Z
LAST-MODIFIED:20260206T172013Z
UID:10004213-1813086000-1813089600@aainri.com
SUMMARY:District 3 Meeting
DESCRIPTION:Hybrid Meeting \nZoom Meeting ID 895 8552 2002 Password Area61 \nIn person  Area Offices \n3649 Post Rd \nWarwick\, RI
URL:https://aainri.com/event/district-3-meeting-2/2027-06-15/
LOCATION:Area Offices\, 3649 Post Rd.\, Warwick\, RI\, 02886\, United States
CATEGORIES:District 3
GEO:41.6903666;-71.4566177
X-APPLE-STRUCTURED-LOCATION;VALUE=URI;X-ADDRESS=Area Offices 3649 Post Rd. Warwick RI 02886 United States;X-APPLE-RADIUS=500;X-TITLE=3649 Post Rd.:geo:-71.4566177,41.6903666
END:VEVENT
BEGIN:VEVENT
DTSTART;TZID=America/New_York:20270720T190000
DTEND;TZID=America/New_York:20270720T200000
DTSTAMP:20260421T053236
CREATED:20260206T141838Z
LAST-MODIFIED:20260206T172013Z
UID:10004214-1816110000-1816113600@aainri.com
SUMMARY:District 3 Meeting
DESCRIPTION:Hybrid Meeting \nZoom Meeting ID 895 8552 2002 Password Area61 \nIn person  Area Offices \n3649 Post Rd \nWarwick\, RI
URL:https://aainri.com/event/district-3-meeting-2/2027-07-20/
LOCATION:Area Offices\, 3649 Post Rd.\, Warwick\, RI\, 02886\, United States
CATEGORIES:District 3
GEO:41.6903666;-71.4566177
X-APPLE-STRUCTURED-LOCATION;VALUE=URI;X-ADDRESS=Area Offices 3649 Post Rd. Warwick RI 02886 United States;X-APPLE-RADIUS=500;X-TITLE=3649 Post Rd.:geo:-71.4566177,41.6903666
END:VEVENT
BEGIN:VEVENT
DTSTART;TZID=America/New_York:20270817T190000
DTEND;TZID=America/New_York:20270817T200000
DTSTAMP:20260421T053236
CREATED:20260206T141838Z
LAST-MODIFIED:20260206T172013Z
UID:10004215-1818529200-1818532800@aainri.com
SUMMARY:District 3 Meeting
DESCRIPTION:Hybrid Meeting \nZoom Meeting ID 895 8552 2002 Password Area61 \nIn person  Area Offices \n3649 Post Rd \nWarwick\, RI
URL:https://aainri.com/event/district-3-meeting-2/2027-08-17/
LOCATION:Area Offices\, 3649 Post Rd.\, Warwick\, RI\, 02886\, United States
CATEGORIES:District 3
GEO:41.6903666;-71.4566177
X-APPLE-STRUCTURED-LOCATION;VALUE=URI;X-ADDRESS=Area Offices 3649 Post Rd. Warwick RI 02886 United States;X-APPLE-RADIUS=500;X-TITLE=3649 Post Rd.:geo:-71.4566177,41.6903666
END:VEVENT
BEGIN:VEVENT
DTSTART;TZID=America/New_York:20270921T190000
DTEND;TZID=America/New_York:20270921T200000
DTSTAMP:20260421T053236
CREATED:20260206T141838Z
LAST-MODIFIED:20260206T172013Z
UID:10004216-1821553200-1821556800@aainri.com
SUMMARY:District 3 Meeting
DESCRIPTION:Hybrid Meeting \nZoom Meeting ID 895 8552 2002 Password Area61 \nIn person  Area Offices \n3649 Post Rd \nWarwick\, RI
URL:https://aainri.com/event/district-3-meeting-2/2027-09-21/
LOCATION:Area Offices\, 3649 Post Rd.\, Warwick\, RI\, 02886\, United States
CATEGORIES:District 3
GEO:41.6903666;-71.4566177
X-APPLE-STRUCTURED-LOCATION;VALUE=URI;X-ADDRESS=Area Offices 3649 Post Rd. Warwick RI 02886 United States;X-APPLE-RADIUS=500;X-TITLE=3649 Post Rd.:geo:-71.4566177,41.6903666
END:VEVENT
BEGIN:VEVENT
DTSTART;TZID=America/New_York:20271019T190000
DTEND;TZID=America/New_York:20271019T200000
DTSTAMP:20260421T053236
CREATED:20260206T141838Z
LAST-MODIFIED:20260206T172013Z
UID:10004217-1823972400-1823976000@aainri.com
SUMMARY:District 3 Meeting
DESCRIPTION:Hybrid Meeting \nZoom Meeting ID 895 8552 2002 Password Area61 \nIn person  Area Offices \n3649 Post Rd \nWarwick\, RI
URL:https://aainri.com/event/district-3-meeting-2/2027-10-19/
LOCATION:Area Offices\, 3649 Post Rd.\, Warwick\, RI\, 02886\, United States
CATEGORIES:District 3
GEO:41.6903666;-71.4566177
X-APPLE-STRUCTURED-LOCATION;VALUE=URI;X-ADDRESS=Area Offices 3649 Post Rd. Warwick RI 02886 United States;X-APPLE-RADIUS=500;X-TITLE=3649 Post Rd.:geo:-71.4566177,41.6903666
END:VEVENT
BEGIN:VEVENT
DTSTART;TZID=America/New_York:20271116T190000
DTEND;TZID=America/New_York:20271116T200000
DTSTAMP:20260421T053236
CREATED:20260206T141838Z
LAST-MODIFIED:20260206T172013Z
UID:10004218-1826391600-1826395200@aainri.com
SUMMARY:District 3 Meeting
DESCRIPTION:Hybrid Meeting \nZoom Meeting ID 895 8552 2002 Password Area61 \nIn person  Area Offices \n3649 Post Rd \nWarwick\, RI
URL:https://aainri.com/event/district-3-meeting-2/2027-11-16/
LOCATION:Area Offices\, 3649 Post Rd.\, Warwick\, RI\, 02886\, United States
CATEGORIES:District 3
GEO:41.6903666;-71.4566177
X-APPLE-STRUCTURED-LOCATION;VALUE=URI;X-ADDRESS=Area Offices 3649 Post Rd. Warwick RI 02886 United States;X-APPLE-RADIUS=500;X-TITLE=3649 Post Rd.:geo:-71.4566177,41.6903666
END:VEVENT
BEGIN:VEVENT
DTSTART;TZID=America/New_York:20271221T190000
DTEND;TZID=America/New_York:20271221T200000
DTSTAMP:20260421T053236
CREATED:20260206T141838Z
LAST-MODIFIED:20260206T172013Z
UID:10004219-1829415600-1829419200@aainri.com
SUMMARY:District 3 Meeting
DESCRIPTION:Hybrid Meeting \nZoom Meeting ID 895 8552 2002 Password Area61 \nIn person  Area Offices \n3649 Post Rd \nWarwick\, RI
URL:https://aainri.com/event/district-3-meeting-2/2027-12-21/
LOCATION:Area Offices\, 3649 Post Rd.\, Warwick\, RI\, 02886\, United States
CATEGORIES:District 3
GEO:41.6903666;-71.4566177
X-APPLE-STRUCTURED-LOCATION;VALUE=URI;X-ADDRESS=Area Offices 3649 Post Rd. Warwick RI 02886 United States;X-APPLE-RADIUS=500;X-TITLE=3649 Post Rd.:geo:-71.4566177,41.6903666
END:VEVENT
BEGIN:VEVENT
DTSTART;TZID=America/New_York:20280118T190000
DTEND;TZID=America/New_York:20280118T200000
DTSTAMP:20260421T053236
CREATED:20260206T141838Z
LAST-MODIFIED:20260206T172013Z
UID:10004220-1831834800-1831838400@aainri.com
SUMMARY:District 3 Meeting
DESCRIPTION:Hybrid Meeting \nZoom Meeting ID 895 8552 2002 Password Area61 \nIn person  Area Offices \n3649 Post Rd \nWarwick\, RI
URL:https://aainri.com/event/district-3-meeting-2/2028-01-18/
LOCATION:Area Offices\, 3649 Post Rd.\, Warwick\, RI\, 02886\, United States
CATEGORIES:District 3
GEO:41.6903666;-71.4566177
X-APPLE-STRUCTURED-LOCATION;VALUE=URI;X-ADDRESS=Area Offices 3649 Post Rd. Warwick RI 02886 United States;X-APPLE-RADIUS=500;X-TITLE=3649 Post Rd.:geo:-71.4566177,41.6903666
END:VEVENT
BEGIN:VEVENT
DTSTART;TZID=America/New_York:20280215T190000
DTEND;TZID=America/New_York:20280215T200000
DTSTAMP:20260421T053236
CREATED:20260206T141838Z
LAST-MODIFIED:20260206T172013Z
UID:10004221-1834254000-1834257600@aainri.com
SUMMARY:District 3 Meeting
DESCRIPTION:Hybrid Meeting \nZoom Meeting ID 895 8552 2002 Password Area61 \nIn person  Area Offices \n3649 Post Rd \nWarwick\, RI
URL:https://aainri.com/event/district-3-meeting-2/2028-02-15/
LOCATION:Area Offices\, 3649 Post Rd.\, Warwick\, RI\, 02886\, United States
CATEGORIES:District 3
GEO:41.6903666;-71.4566177
X-APPLE-STRUCTURED-LOCATION;VALUE=URI;X-ADDRESS=Area Offices 3649 Post Rd. Warwick RI 02886 United States;X-APPLE-RADIUS=500;X-TITLE=3649 Post Rd.:geo:-71.4566177,41.6903666
END:VEVENT
BEGIN:VEVENT
DTSTART;TZID=America/New_York:20280321T190000
DTEND;TZID=America/New_York:20280321T200000
DTSTAMP:20260421T053236
CREATED:20260206T141838Z
LAST-MODIFIED:20260206T172013Z
UID:10004222-1837278000-1837281600@aainri.com
SUMMARY:District 3 Meeting
DESCRIPTION:Hybrid Meeting \nZoom Meeting ID 895 8552 2002 Password Area61 \nIn person  Area Offices \n3649 Post Rd \nWarwick\, RI
URL:https://aainri.com/event/district-3-meeting-2/2028-03-21/
LOCATION:Area Offices\, 3649 Post Rd.\, Warwick\, RI\, 02886\, United States
CATEGORIES:District 3
GEO:41.6903666;-71.4566177
X-APPLE-STRUCTURED-LOCATION;VALUE=URI;X-ADDRESS=Area Offices 3649 Post Rd. Warwick RI 02886 United States;X-APPLE-RADIUS=500;X-TITLE=3649 Post Rd.:geo:-71.4566177,41.6903666
END:VEVENT
BEGIN:VEVENT
DTSTART;TZID=America/New_York:20280418T190000
DTEND;TZID=America/New_York:20280418T200000
DTSTAMP:20260421T053236
CREATED:20260206T141838Z
LAST-MODIFIED:20260206T172013Z
UID:10004223-1839697200-1839700800@aainri.com
SUMMARY:District 3 Meeting
DESCRIPTION:Hybrid Meeting \nZoom Meeting ID 895 8552 2002 Password Area61 \nIn person  Area Offices \n3649 Post Rd \nWarwick\, RI
URL:https://aainri.com/event/district-3-meeting-2/2028-04-18/
LOCATION:Area Offices\, 3649 Post Rd.\, Warwick\, RI\, 02886\, United States
CATEGORIES:District 3
GEO:41.6903666;-71.4566177
X-APPLE-STRUCTURED-LOCATION;VALUE=URI;X-ADDRESS=Area Offices 3649 Post Rd. Warwick RI 02886 United States;X-APPLE-RADIUS=500;X-TITLE=3649 Post Rd.:geo:-71.4566177,41.6903666
END:VEVENT
BEGIN:VEVENT
DTSTART;TZID=America/New_York:20280516T190000
DTEND;TZID=America/New_York:20280516T200000
DTSTAMP:20260421T053236
CREATED:20260206T141838Z
LAST-MODIFIED:20260206T172013Z
UID:10004224-1842116400-1842120000@aainri.com
SUMMARY:District 3 Meeting
DESCRIPTION:Hybrid Meeting \nZoom Meeting ID 895 8552 2002 Password Area61 \nIn person  Area Offices \n3649 Post Rd \nWarwick\, RI
URL:https://aainri.com/event/district-3-meeting-2/2028-05-16/
LOCATION:Area Offices\, 3649 Post Rd.\, Warwick\, RI\, 02886\, United States
CATEGORIES:District 3
GEO:41.6903666;-71.4566177
X-APPLE-STRUCTURED-LOCATION;VALUE=URI;X-ADDRESS=Area Offices 3649 Post Rd. Warwick RI 02886 United States;X-APPLE-RADIUS=500;X-TITLE=3649 Post Rd.:geo:-71.4566177,41.6903666
END:VEVENT
BEGIN:VEVENT
DTSTART;TZID=America/New_York:20280620T190000
DTEND;TZID=America/New_York:20280620T200000
DTSTAMP:20260421T053236
CREATED:20260206T141838Z
LAST-MODIFIED:20260206T172013Z
UID:10004225-1845140400-1845144000@aainri.com
SUMMARY:District 3 Meeting
DESCRIPTION:Hybrid Meeting \nZoom Meeting ID 895 8552 2002 Password Area61 \nIn person  Area Offices \n3649 Post Rd \nWarwick\, RI
URL:https://aainri.com/event/district-3-meeting-2/2028-06-20/
LOCATION:Area Offices\, 3649 Post Rd.\, Warwick\, RI\, 02886\, United States
CATEGORIES:District 3
GEO:41.6903666;-71.4566177
X-APPLE-STRUCTURED-LOCATION;VALUE=URI;X-ADDRESS=Area Offices 3649 Post Rd. Warwick RI 02886 United States;X-APPLE-RADIUS=500;X-TITLE=3649 Post Rd.:geo:-71.4566177,41.6903666
END:VEVENT
BEGIN:VEVENT
DTSTART;TZID=America/New_York:20280718T190000
DTEND;TZID=America/New_York:20280718T200000
DTSTAMP:20260421T053236
CREATED:20260206T141838Z
LAST-MODIFIED:20260206T172013Z
UID:10014283-1847559600-1847563200@aainri.com
SUMMARY:District 3 Meeting
DESCRIPTION:Hybrid Meeting \nZoom Meeting ID 895 8552 2002 Password Area61 \nIn person  Area Offices \n3649 Post Rd \nWarwick\, RI
URL:https://aainri.com/event/district-3-meeting-2/2028-07-18/
LOCATION:Area Offices\, 3649 Post Rd.\, Warwick\, RI\, 02886\, United States
CATEGORIES:District 3
GEO:41.6903666;-71.4566177
X-APPLE-STRUCTURED-LOCATION;VALUE=URI;X-ADDRESS=Area Offices 3649 Post Rd. Warwick RI 02886 United States;X-APPLE-RADIUS=500;X-TITLE=3649 Post Rd.:geo:-71.4566177,41.6903666
END:VEVENT
BEGIN:VEVENT
DTSTART;TZID=America/New_York:20280815T190000
DTEND;TZID=America/New_York:20280815T200000
DTSTAMP:20260421T053236
CREATED:20260206T141838Z
LAST-MODIFIED:20260206T172013Z
UID:10014284-1849978800-1849982400@aainri.com
SUMMARY:District 3 Meeting
DESCRIPTION:Hybrid Meeting \nZoom Meeting ID 895 8552 2002 Password Area61 \nIn person  Area Offices \n3649 Post Rd \nWarwick\, RI
URL:https://aainri.com/event/district-3-meeting-2/2028-08-15/
LOCATION:Area Offices\, 3649 Post Rd.\, Warwick\, RI\, 02886\, United States
CATEGORIES:District 3
GEO:41.6903666;-71.4566177
X-APPLE-STRUCTURED-LOCATION;VALUE=URI;X-ADDRESS=Area Offices 3649 Post Rd. Warwick RI 02886 United States;X-APPLE-RADIUS=500;X-TITLE=3649 Post Rd.:geo:-71.4566177,41.6903666
END:VEVENT
BEGIN:VEVENT
DTSTART;TZID=America/New_York:20280919T190000
DTEND;TZID=America/New_York:20280919T200000
DTSTAMP:20260421T053236
CREATED:20260206T141838Z
LAST-MODIFIED:20260206T172013Z
UID:10014285-1853002800-1853006400@aainri.com
SUMMARY:District 3 Meeting
DESCRIPTION:Hybrid Meeting \nZoom Meeting ID 895 8552 2002 Password Area61 \nIn person  Area Offices \n3649 Post Rd \nWarwick\, RI
URL:https://aainri.com/event/district-3-meeting-2/2028-09-19/
LOCATION:Area Offices\, 3649 Post Rd.\, Warwick\, RI\, 02886\, United States
CATEGORIES:District 3
GEO:41.6903666;-71.4566177
X-APPLE-STRUCTURED-LOCATION;VALUE=URI;X-ADDRESS=Area Offices 3649 Post Rd. Warwick RI 02886 United States;X-APPLE-RADIUS=500;X-TITLE=3649 Post Rd.:geo:-71.4566177,41.6903666
END:VEVENT
END:VCALENDAR