BEGIN:VCALENDAR
VERSION:2.0
PRODID:-//Alcoholics Anonymous in Rhode Island - ECPv6.15.20//NONSGML v1.0//EN
CALSCALE:GREGORIAN
METHOD:PUBLISH
X-WR-CALNAME:Alcoholics Anonymous in Rhode Island
X-ORIGINAL-URL:https://aainri.com
X-WR-CALDESC:Events for Alcoholics Anonymous in Rhode Island
REFRESH-INTERVAL;VALUE=DURATION:PT1H
X-Robots-Tag:noindex
X-PUBLISHED-TTL:PT1H
BEGIN:VTIMEZONE
TZID:America/New_York
BEGIN:DAYLIGHT
TZOFFSETFROM:-0500
TZOFFSETTO:-0400
TZNAME:EDT
DTSTART:20240310T070000
END:DAYLIGHT
BEGIN:STANDARD
TZOFFSETFROM:-0400
TZOFFSETTO:-0500
TZNAME:EST
DTSTART:20241103T060000
END:STANDARD
BEGIN:DAYLIGHT
TZOFFSETFROM:-0500
TZOFFSETTO:-0400
TZNAME:EDT
DTSTART:20250309T070000
END:DAYLIGHT
BEGIN:STANDARD
TZOFFSETFROM:-0400
TZOFFSETTO:-0500
TZNAME:EST
DTSTART:20251102T060000
END:STANDARD
BEGIN:DAYLIGHT
TZOFFSETFROM:-0500
TZOFFSETTO:-0400
TZNAME:EDT
DTSTART:20260308T070000
END:DAYLIGHT
BEGIN:STANDARD
TZOFFSETFROM:-0400
TZOFFSETTO:-0500
TZNAME:EST
DTSTART:20261101T060000
END:STANDARD
BEGIN:DAYLIGHT
TZOFFSETFROM:-0500
TZOFFSETTO:-0400
TZNAME:EDT
DTSTART:20270314T070000
END:DAYLIGHT
BEGIN:STANDARD
TZOFFSETFROM:-0400
TZOFFSETTO:-0500
TZNAME:EST
DTSTART:20271107T060000
END:STANDARD
END:VTIMEZONE
BEGIN:VEVENT
DTSTART;TZID=America/New_York:20260422T180000
DTEND;TZID=America/New_York:20260422T190000
DTSTAMP:20260424T080330
CREATED:20260206T144959Z
LAST-MODIFIED:20260206T145000Z
UID:10015622-1776880800-1776884400@aainri.com
SUMMARY:Archives Committee Meeting
DESCRIPTION:Virtual Meeting \nZoom ID 895 8552 2002 Password: Area61
URL:https://aainri.com/event/archives-committee-meeting-2/2026-04-22/
LOCATION:Zoom ID 895 8552 2002 Password Area61
CATEGORIES:Archives Committee
END:VEVENT
BEGIN:VEVENT
DTSTART;TZID=America/New_York:20260325T180000
DTEND;TZID=America/New_York:20260325T190000
DTSTAMP:20260424T080330
CREATED:20260206T144959Z
LAST-MODIFIED:20260206T145000Z
UID:10015621-1774461600-1774465200@aainri.com
SUMMARY:Archives Committee Meeting
DESCRIPTION:Virtual Meeting \nZoom ID 895 8552 2002 Password: Area61
URL:https://aainri.com/event/archives-committee-meeting-2/2026-03-25/
LOCATION:Zoom ID 895 8552 2002 Password Area61
CATEGORIES:Archives Committee
END:VEVENT
BEGIN:VEVENT
DTSTART;TZID=America/New_York:20260225T180000
DTEND;TZID=America/New_York:20260225T190000
DTSTAMP:20260424T080330
CREATED:20260206T144959Z
LAST-MODIFIED:20260206T145000Z
UID:10015620-1772042400-1772046000@aainri.com
SUMMARY:Archives Committee Meeting
DESCRIPTION:Virtual Meeting \nZoom ID 895 8552 2002 Password: Area61
URL:https://aainri.com/event/archives-committee-meeting-2/2026-02-25/
LOCATION:Zoom ID 895 8552 2002 Password Area61
CATEGORIES:Archives Committee
END:VEVENT
BEGIN:VEVENT
DTSTART;TZID=America/New_York:20260128T180000
DTEND;TZID=America/New_York:20260128T190000
DTSTAMP:20260424T080330
CREATED:20170205T043208Z
LAST-MODIFIED:20251218T230550Z
UID:10015619-1769623200-1769626800@aainri.com
SUMMARY:Archives Committee Meeting
DESCRIPTION:Virtual Meeting \nZoom ID 840 8959 5235 Password: Area61
URL:https://aainri.com/event/archives-committee-meeting/2026-01-28/
LOCATION:Zoom ID 840 8959 5235 Password:  Are61\, Warwick\, United States
CATEGORIES:Archives Committee
GEO:41.7001009;-71.4161671
END:VEVENT
BEGIN:VEVENT
DTSTART;TZID=America/New_York:20251126T180000
DTEND;TZID=America/New_York:20251126T190000
DTSTAMP:20260424T080330
CREATED:20170205T043208Z
LAST-MODIFIED:20251218T230550Z
UID:10015618-1764180000-1764183600@aainri.com
SUMMARY:Archives Committee Meeting
DESCRIPTION:Virtual Meeting \nZoom ID 840 8959 5235 Password: Area61
URL:https://aainri.com/event/archives-committee-meeting/2025-11-26/
LOCATION:Zoom ID 840 8959 5235 Password:  Are61\, Warwick\, United States
CATEGORIES:Archives Committee
GEO:41.7001009;-71.4161671
END:VEVENT
BEGIN:VEVENT
DTSTART;TZID=America/New_York:20251022T180000
DTEND;TZID=America/New_York:20251022T190000
DTSTAMP:20260424T080330
CREATED:20170205T043208Z
LAST-MODIFIED:20251218T230550Z
UID:10015617-1761156000-1761159600@aainri.com
SUMMARY:Archives Committee Meeting
DESCRIPTION:Virtual Meeting \nZoom ID 840 8959 5235 Password: Area61
URL:https://aainri.com/event/archives-committee-meeting/2025-10-22/
LOCATION:Zoom ID 840 8959 5235 Password:  Are61\, Warwick\, United States
CATEGORIES:Archives Committee
GEO:41.7001009;-71.4161671
END:VEVENT
BEGIN:VEVENT
DTSTART;TZID=America/New_York:20250924T180000
DTEND;TZID=America/New_York:20250924T190000
DTSTAMP:20260424T080330
CREATED:20170205T043208Z
LAST-MODIFIED:20251218T230550Z
UID:10015616-1758736800-1758740400@aainri.com
SUMMARY:Archives Committee Meeting
DESCRIPTION:Virtual Meeting \nZoom ID 840 8959 5235 Password: Area61
URL:https://aainri.com/event/archives-committee-meeting/2025-09-24/
LOCATION:Zoom ID 840 8959 5235 Password:  Are61\, Warwick\, United States
CATEGORIES:Archives Committee
GEO:41.7001009;-71.4161671
END:VEVENT
BEGIN:VEVENT
DTSTART;TZID=America/New_York:20250827T180000
DTEND;TZID=America/New_York:20250827T190000
DTSTAMP:20260424T080330
CREATED:20170205T043208Z
LAST-MODIFIED:20251218T230550Z
UID:10015615-1756317600-1756321200@aainri.com
SUMMARY:Archives Committee Meeting
DESCRIPTION:Virtual Meeting \nZoom ID 840 8959 5235 Password: Area61
URL:https://aainri.com/event/archives-committee-meeting/2025-08-27/
LOCATION:Zoom ID 840 8959 5235 Password:  Are61\, Warwick\, United States
CATEGORIES:Archives Committee
GEO:41.7001009;-71.4161671
END:VEVENT
BEGIN:VEVENT
DTSTART;TZID=America/New_York:20250723T180000
DTEND;TZID=America/New_York:20250723T190000
DTSTAMP:20260424T080330
CREATED:20170205T043208Z
LAST-MODIFIED:20251218T230550Z
UID:10015614-1753293600-1753297200@aainri.com
SUMMARY:Archives Committee Meeting
DESCRIPTION:Virtual Meeting \nZoom ID 840 8959 5235 Password: Area61
URL:https://aainri.com/event/archives-committee-meeting/2025-07-23/
LOCATION:Zoom ID 840 8959 5235 Password:  Are61\, Warwick\, United States
CATEGORIES:Archives Committee
GEO:41.7001009;-71.4161671
END:VEVENT
BEGIN:VEVENT
DTSTART;TZID=America/New_York:20250629T100000
DTEND;TZID=America/New_York:20250629T113000
DTSTAMP:20260424T080330
CREATED:20250429T095626Z
LAST-MODIFIED:20250622T150706Z
UID:10011879-1751191200-1751196600@aainri.com
SUMMARY:Long Timers Panel For 50th RI State Convention
DESCRIPTION:Hybrid Meeting \nIn-person:  Area Office\, 3649 Post Rd\, Warwick\, RI 02886 \nZoom ID 912 640 0169 Passcode  Area61
URL:https://aainri.com/event/long-timers-panel-for-50th-ri-state-convrention/
LOCATION:Area Offices\, 3649 Post Rd.\, Warwick\, RI\, 02886\, United States
CATEGORIES:Archives Committee,Convention Committee,General Announcements
ATTACH;FMTTYPE=image/png:https://aainri.com/wp-content/uploads/2025/04/LongtimersPanel062925_final.png
GEO:41.6903666;-71.4566177
X-APPLE-STRUCTURED-LOCATION;VALUE=URI;X-ADDRESS=Area Offices 3649 Post Rd. Warwick RI 02886 United States;X-APPLE-RADIUS=500;X-TITLE=3649 Post Rd.:geo:-71.4566177,41.6903666
END:VEVENT
BEGIN:VEVENT
DTSTART;TZID=America/New_York:20250625T180000
DTEND;TZID=America/New_York:20250625T190000
DTSTAMP:20260424T080330
CREATED:20170205T043208Z
LAST-MODIFIED:20251218T230550Z
UID:10015613-1750874400-1750878000@aainri.com
SUMMARY:Archives Committee Meeting
DESCRIPTION:Virtual Meeting \nZoom ID 840 8959 5235 Password: Area61
URL:https://aainri.com/event/archives-committee-meeting/2025-06-25/
LOCATION:Zoom ID 840 8959 5235 Password:  Are61\, Warwick\, United States
CATEGORIES:Archives Committee
GEO:41.7001009;-71.4161671
END:VEVENT
BEGIN:VEVENT
DTSTART;TZID=America/New_York:20250528T180000
DTEND;TZID=America/New_York:20250528T190000
DTSTAMP:20260424T080330
CREATED:20170205T043208Z
LAST-MODIFIED:20251218T230550Z
UID:10015612-1748455200-1748458800@aainri.com
SUMMARY:Archives Committee Meeting
DESCRIPTION:Virtual Meeting \nZoom ID 840 8959 5235 Password: Area61
URL:https://aainri.com/event/archives-committee-meeting/2025-05-28/
LOCATION:Zoom ID 840 8959 5235 Password:  Are61\, Warwick\, United States
CATEGORIES:Archives Committee
GEO:41.7001009;-71.4161671
END:VEVENT
END:VCALENDAR